BEGIN:VCALENDAR
VERSION:2.0
PRODID:-//PEOPLES REPUBLIC OF STOKES CROFT - ECPv6.15.20//NONSGML v1.0//EN
CALSCALE:GREGORIAN
METHOD:PUBLISH
X-ORIGINAL-URL:https://dev.prsc.org.uk
X-WR-CALDESC:Events for PEOPLES REPUBLIC OF STOKES CROFT
REFRESH-INTERVAL;VALUE=DURATION:PT1H
X-Robots-Tag:noindex
X-PUBLISHED-TTL:PT1H
BEGIN:VTIMEZONE
TZID:Europe/London
BEGIN:DAYLIGHT
TZOFFSETFROM:+0000
TZOFFSETTO:+0100
TZNAME:BST
DTSTART:20170326T010000
END:DAYLIGHT
BEGIN:STANDARD
TZOFFSETFROM:+0100
TZOFFSETTO:+0000
TZNAME:GMT
DTSTART:20171029T010000
END:STANDARD
BEGIN:DAYLIGHT
TZOFFSETFROM:+0000
TZOFFSETTO:+0100
TZNAME:BST
DTSTART:20180325T010000
END:DAYLIGHT
BEGIN:STANDARD
TZOFFSETFROM:+0100
TZOFFSETTO:+0000
TZNAME:GMT
DTSTART:20181028T010000
END:STANDARD
BEGIN:DAYLIGHT
TZOFFSETFROM:+0000
TZOFFSETTO:+0100
TZNAME:BST
DTSTART:20190331T010000
END:DAYLIGHT
BEGIN:STANDARD
TZOFFSETFROM:+0100
TZOFFSETTO:+0000
TZNAME:GMT
DTSTART:20191027T010000
END:STANDARD
BEGIN:DAYLIGHT
TZOFFSETFROM:+0000
TZOFFSETTO:+0100
TZNAME:BST
DTSTART:20200329T010000
END:DAYLIGHT
BEGIN:STANDARD
TZOFFSETFROM:+0100
TZOFFSETTO:+0000
TZNAME:GMT
DTSTART:20201025T010000
END:STANDARD
BEGIN:DAYLIGHT
TZOFFSETFROM:+0000
TZOFFSETTO:+0100
TZNAME:BST
DTSTART:20210328T010000
END:DAYLIGHT
BEGIN:STANDARD
TZOFFSETFROM:+0100
TZOFFSETTO:+0000
TZNAME:GMT
DTSTART:20211031T010000
END:STANDARD
BEGIN:DAYLIGHT
TZOFFSETFROM:+0000
TZOFFSETTO:+0100
TZNAME:BST
DTSTART:20220327T010000
END:DAYLIGHT
BEGIN:STANDARD
TZOFFSETFROM:+0100
TZOFFSETTO:+0000
TZNAME:GMT
DTSTART:20221030T010000
END:STANDARD
BEGIN:DAYLIGHT
TZOFFSETFROM:+0000
TZOFFSETTO:+0100
TZNAME:BST
DTSTART:20230326T010000
END:DAYLIGHT
BEGIN:STANDARD
TZOFFSETFROM:+0100
TZOFFSETTO:+0000
TZNAME:GMT
DTSTART:20231029T010000
END:STANDARD
BEGIN:DAYLIGHT
TZOFFSETFROM:+0000
TZOFFSETTO:+0100
TZNAME:BST
DTSTART:20240331T010000
END:DAYLIGHT
BEGIN:STANDARD
TZOFFSETFROM:+0100
TZOFFSETTO:+0000
TZNAME:GMT
DTSTART:20241027T010000
END:STANDARD
BEGIN:DAYLIGHT
TZOFFSETFROM:+0000
TZOFFSETTO:+0100
TZNAME:BST
DTSTART:20250330T010000
END:DAYLIGHT
BEGIN:STANDARD
TZOFFSETFROM:+0100
TZOFFSETTO:+0000
TZNAME:GMT
DTSTART:20251026T010000
END:STANDARD
END:VTIMEZONE
BEGIN:VEVENT
DTSTART;TZID=Europe/London:20240505T100000
DTEND;TZID=Europe/London:20240505T180000
DTSTAMP:20260422T032214
CREATED:20240424T184345Z
LAST-MODIFIED:20240424T184345Z
UID:10014564-1714903200-1714932000@dev.prsc.org.uk
SUMMARY:British Kendama Open 2024
DESCRIPTION:TicketsCelebrating another year of Kendama\, culminating in an event to find out who will become this years British Kendama Champion… \nAll skill levels and nationalities welcome. We will be running four styles of comp:\nBeginner\nIntermediate\nOpen\nFreestyle \nMeet players from up and down the country\, share tricks and witness performances of the best Kendama this country has to offer.
URL:https://dev.prsc.org.uk/event/british-kendama-open-2024/
LOCATION:SPACE at PRSC\, 17-25 Jamaica St\, Bristol\, BS2 8JW\, United Kingdom
CATEGORIES:Activity,Competition,Movement
ATTACH;FMTTYPE=image/jpeg:https://dev.prsc.org.uk/wp-content/uploads/2024/04/BKO_Logo_color-small.jpg
GEO:51.462367098231;-2.5910394455531
X-APPLE-STRUCTURED-LOCATION;VALUE=URI;X-ADDRESS=SPACE at PRSC 17-25 Jamaica St Bristol BS2 8JW United Kingdom;X-APPLE-RADIUS=500;X-TITLE=17-25 Jamaica St:geo:-2.5910394455531,51.462367098231
END:VEVENT
BEGIN:VEVENT
DTSTART;TZID=Europe/London:20190628T190000
DTEND;TZID=Europe/London:20190628T223000
DTSTAMP:20260422T032214
CREATED:20190603T142112Z
LAST-MODIFIED:20190603T142242Z
UID:10014364-1561748400-1561761000@dev.prsc.org.uk
SUMMARY:Meta-slam V2.1 Featuring Leilah King and Ruari Quinn
DESCRIPTION:Meta-Slam is a competition where 8 poets will be randomly selected from a pool of applicants to compete for a £50 headlining set in the heart of Bristol. \nWe strive to make the event as close as possible to a fair and balanced cometition where pure lyrical skill and poetic crafstamnship are rewarded in a big way for those with the resolve to step up to the mic and give their best performance. \nAfter 2\, 4 person heats\, the winners of each heat will go head to head in a climactic final round to become our Meta-Slam champion! \nAlso joining us as our headliners for the evening: \nLeilah King: \nLeilah Jane King is a footballer and Bristol-based poet unearthing her Iranian heritage. She grapples with life’s turmoil making light of family\, love\, and sexuality. Her poetry is comedic yet painfully reflective sharing her experiences of prejudice\, conflict and mental health. Her debut pamphlet Midnight Picnics in Tehran is coming out this summer with Burning Eye Books. \nRuari Quinn: \nA guy who started performing poetry in 2015 after he discovered it was easier than standup.\nA fan of comedy and wordplay\, he describes his work as “put something inspiring there\, say that instead of this bit”.\nHe is to conventional poetry what a blender is to a goldfish\, put your hands together and apart in rapid clap-like procession for Ruari Quinn! \nEntry is £5 on the door for everyone\, competitor or not\, so tell your friends and come share an amazing night of poetry with us. \nWant to enter the slam? Here’s a few things to know: \nJust send us a message at email hidden; JavaScript is required with your name and preferred method of contact\, after which we’ll let fate decide our slammers during our “random pick live stream” later this month…. \nSee you there!
URL:https://dev.prsc.org.uk/event/meta-slam-v2-1-featuring-leilah-king-and-ruari-quinn/
LOCATION:SPACE at PRSC\, 17-25 Jamaica St\, Bristol\, BS2 8JW\, United Kingdom
CATEGORIES:Competition,Performance,Poetry
ATTACH;FMTTYPE=image/jpeg:https://dev.prsc.org.uk/wp-content/uploads/2019/06/metaslam_28june2019.jpg
GEO:51.462367098231;-2.5910394455531
X-APPLE-STRUCTURED-LOCATION;VALUE=URI;X-ADDRESS=SPACE at PRSC 17-25 Jamaica St Bristol BS2 8JW United Kingdom;X-APPLE-RADIUS=500;X-TITLE=17-25 Jamaica St:geo:-2.5910394455531,51.462367098231
END:VEVENT
BEGIN:VEVENT
DTSTART;TZID=Europe/London:20190223T190000
DTEND;TZID=Europe/London:20190223T223000
DTSTAMP:20260422T032214
CREATED:20190114T141805Z
LAST-MODIFIED:20190114T141805Z
UID:10014262-1550948400-1550961000@dev.prsc.org.uk
SUMMARY:Meta-Slam V2.0 - Featuring Imogen Downes
DESCRIPTION:Meta-slam: A slam that aims to refine the Poetry Slam into a well oiled machine\, with no score creep\, real judges and a cash prize for the winner.\n\n\n\n\n\n\n\n\n\n\n\n\n\n\n\n\n\n\n\n\n\nUpdated ruleset\, new visuals\, faster runtime\, better content\, expect updates of this size and magnitude every time a new Meta-Slam roles around\, a trend we’re starting with Meta-Slam 2.0! \nMeta-Slam is a competition where 10 poets will be randomly selected from a pool of applicants to compete for £100 in prize money\, using nothing but their words\, their wits and their ability to impress our 3 judges. \nAfter 2\, 5 person heats\, the winners of each heat will go head to head in a climactic final round to become our Meta-Slam champion! \nAlso joining us as our headliner for the evening\, it’s Imogen Downes! \nImogen is a poet\, writer\, and theatre maker from Bristol. She has worked with Rife Magazine\, Bristol Old Vic and Cheltenham Literature Festival\, and was named as one of the most influential young Bristolians of 2018. Her work has been shared in a number of venues across the UK\, and is influenced by the rawness of performance poetry and her experiences as a young woman. Having developed from a background in theatre\, she draws on her experiences in storytelling and playwriting to create a strong blend of engaging performance and powerful writing. Whether humorous or cuttingly serious\, Imogen’s work always aims to reveal something about the human condition; transcending everyday experiences to lay bare what it means to be human and to be treated inhumanely. \nEntry is £5 on the door for everyone\, competitor or not\, so tell your friends and come share an amazing night of poetry with us. \nWant to enter the slam? Here’s a few things to know: \nTo enter\, competitors pay £5 and bring a named audience member. The “buddy” that you’ll use as a reference must be included in your initial sign up email and CCd into the email chain so we can verify their validity. Once we’ve confirmed their attendance you will be entered into the draw. If you turn up on the night without your buddy you’ll still be able to perform but will be disqualified from the competition. \nThis is a new rule we’ve implemented for safety reasons\, so that everyone can be accounted for and to avoid incidents similar to one we had at our first event where a competitor turned up from across the country with no means of transport to get home and nowhere to stay\, leading us to have to take responsibility for them for fear of their wellbeing if we did not (which is something we really should never have had to do). \nJust send us a message at email hidden; JavaScript is required with your name and preferred method of contact\, after which we’ll let fate decide our slammers during our “random pick live stream” later this month….
URL:https://dev.prsc.org.uk/event/meta-slam-v2-0-featuring-imogen-downes/
LOCATION:SPACE at PRSC\, 17-25 Jamaica St\, Bristol\, BS2 8JW\, United Kingdom
CATEGORIES:Competition,Performance,Poetry
ATTACH;FMTTYPE=image/jpeg:https://dev.prsc.org.uk/wp-content/uploads/2019/01/meta_slam_2.jpg
GEO:51.462367098231;-2.5910394455531
X-APPLE-STRUCTURED-LOCATION;VALUE=URI;X-ADDRESS=SPACE at PRSC 17-25 Jamaica St Bristol BS2 8JW United Kingdom;X-APPLE-RADIUS=500;X-TITLE=17-25 Jamaica St:geo:-2.5910394455531,51.462367098231
END:VEVENT
BEGIN:VEVENT
DTSTART;TZID=Europe/London:20181206T180000
DTEND;TZID=Europe/London:20181206T203000
DTSTAMP:20260422T032214
CREATED:20181009T125733Z
LAST-MODIFIED:20181106T152000Z
UID:10014244-1544119200-1544128200@dev.prsc.org.uk
SUMMARY:Proper Bristol Postcard - Exhibition Opening
DESCRIPTION:From December 7th to 17th PRSC will be exhibiting all of the images entered into the Proper Bristol Postcard Competition. \nPRSC received hundreds of entries to our competition which challenged people to help us create a new series of postcards depicting the best and worst of our fair city. The collection includes witty images\, angry images\, beautiful details and pictures that celebrate a personal experience of Bristol. \nTaken as a whole the collected entries give a perceptive and overwhelming vision of the city as seen by its people. \nThe exhibition will also host one of the ballot boxes where the public can vote for their overall winner from the judges selection of finalists. \nOn the evening of Thursday December 6th we invite you to join us in a glass of mulled cider and to take a private view of this wonderful set of images.
URL:https://dev.prsc.org.uk/event/proper-bristol-postcard-exhibition-opening/
LOCATION:SPACE at PRSC\, 17-25 Jamaica St\, Bristol\, BS2 8JW\, United Kingdom
CATEGORIES:Art Exhibition,Competition,Exhibition,Opening Night,Photography Exhibition,Politics
ATTACH;FMTTYPE=image/jpeg:https://dev.prsc.org.uk/wp-content/uploads/2018/07/INKIEx_PROPER-BRISTOL.jpg
GEO:51.462367098231;-2.5910394455531
X-APPLE-STRUCTURED-LOCATION;VALUE=URI;X-ADDRESS=SPACE at PRSC 17-25 Jamaica St Bristol BS2 8JW United Kingdom;X-APPLE-RADIUS=500;X-TITLE=17-25 Jamaica St:geo:-2.5910394455531,51.462367098231
END:VEVENT
BEGIN:VEVENT
DTSTART;TZID=Europe/London:20181117T190000
DTEND;TZID=Europe/London:20181117T220000
DTSTAMP:20260422T032214
CREATED:20181015T155603Z
LAST-MODIFIED:20181106T164019Z
UID:10014249-1542481200-1542492000@dev.prsc.org.uk
SUMMARY:Meta-Slam
DESCRIPTION:A brand new slam is coming to Bristol and it’s coming in hot! \nMeta-Slam is a competition where 10 poets will be randomly selected from a pool of applicants to compete for £100 in prize money\, using nothing but their words\, their wits and their ability to impress our 3 judges. \nAfter 2\, 5 person heats\, the winners of each heat will go head to head in a climactic final round to become our Meta-Slam champion! \nEntry is £5 on the door for everyone\, competitor or not\, so tell your friends and come share an amazing night of poetry with us. \nWant to enter the slam? Just send Rhys a message at email hidden; JavaScript is required with your name and preferred method of contact\, after which we’ll let fate decide our slammers during our “random pick live stream” later this month…. \nSee you there!
URL:https://dev.prsc.org.uk/event/metaslam2018/
LOCATION:SPACE at PRSC\, 17-25 Jamaica St\, Bristol\, BS2 8JW\, United Kingdom
CATEGORIES:Competition,Performance,Poetry
ATTACH;FMTTYPE=image/png:https://dev.prsc.org.uk/wp-content/uploads/2018/10/meta_poetry1_17nov18.png
GEO:51.462367098231;-2.5910394455531
X-APPLE-STRUCTURED-LOCATION;VALUE=URI;X-ADDRESS=SPACE at PRSC 17-25 Jamaica St Bristol BS2 8JW United Kingdom;X-APPLE-RADIUS=500;X-TITLE=17-25 Jamaica St:geo:-2.5910394455531,51.462367098231
END:VEVENT
END:VCALENDAR