BEGIN:VCALENDAR
VERSION:2.0
PRODID:-//PEOPLES REPUBLIC OF STOKES CROFT - ECPv6.15.20//NONSGML v1.0//EN
CALSCALE:GREGORIAN
METHOD:PUBLISH
X-ORIGINAL-URL:https://dev.prsc.org.uk
X-WR-CALDESC:Events for PEOPLES REPUBLIC OF STOKES CROFT
REFRESH-INTERVAL;VALUE=DURATION:PT1H
X-Robots-Tag:noindex
X-PUBLISHED-TTL:PT1H
BEGIN:VTIMEZONE
TZID:Europe/London
BEGIN:DAYLIGHT
TZOFFSETFROM:+0000
TZOFFSETTO:+0100
TZNAME:BST
DTSTART:20210328T010000
END:DAYLIGHT
BEGIN:STANDARD
TZOFFSETFROM:+0100
TZOFFSETTO:+0000
TZNAME:GMT
DTSTART:20211031T010000
END:STANDARD
BEGIN:DAYLIGHT
TZOFFSETFROM:+0000
TZOFFSETTO:+0100
TZNAME:BST
DTSTART:20220327T010000
END:DAYLIGHT
BEGIN:STANDARD
TZOFFSETFROM:+0100
TZOFFSETTO:+0000
TZNAME:GMT
DTSTART:20221030T010000
END:STANDARD
BEGIN:DAYLIGHT
TZOFFSETFROM:+0000
TZOFFSETTO:+0100
TZNAME:BST
DTSTART:20230326T010000
END:DAYLIGHT
BEGIN:STANDARD
TZOFFSETFROM:+0100
TZOFFSETTO:+0000
TZNAME:GMT
DTSTART:20231029T010000
END:STANDARD
END:VTIMEZONE
BEGIN:VEVENT
DTSTART;TZID=Europe/London:20220930T190000
DTEND;TZID=Europe/London:20221002T170000
DTSTAMP:20260421T113112
CREATED:20220921T151253Z
LAST-MODIFIED:20220921T151253Z
UID:10014822-1664564400-1664730000@dev.prsc.org.uk
SUMMARY:The Archive of Ephemera
DESCRIPTION:Opening party: Friday 30 Sep\, 19:00 – 23:30\nOpen Saturday & Sunday\, 12:00 – 17:00 \nThe Archive of Ephemera is a trip through Stokes Croft’s history\, told through the objects that we normally cast aside. From gig posters and protest banners\, to meeting notes and drawings\, this exhibition charts the major political struggles that have defined Stokes Croft in the past 20 years. In this exhibition we present a curated selection of objects from the archive. \nJoin us for the opening on Fri 30 Sep from 7 – 11.30pm\, with live music from:\n★ Natalie Whiteland (Minor Conflict)\n★ Tom Connolly (Quade)\n★ Jesus Heist\n★ Jerk Rats\n★ Buster Highwaymen and the Hornbeams
URL:https://dev.prsc.org.uk/event/the-archive-of-ephemera/
LOCATION:SPACE at PRSC\, 17-25 Jamaica St\, Bristol\, BS2 8JW\, United Kingdom
CATEGORIES:Art Exhibition,Exhibition,Music,Opening Night,The People's Archive
ATTACH;FMTTYPE=image/jpeg:https://dev.prsc.org.uk/wp-content/uploads/2022/09/archive-exhib.jpg
GEO:51.462367098231;-2.5910394455531
X-APPLE-STRUCTURED-LOCATION;VALUE=URI;X-ADDRESS=SPACE at PRSC 17-25 Jamaica St Bristol BS2 8JW United Kingdom;X-APPLE-RADIUS=500;X-TITLE=17-25 Jamaica St:geo:-2.5910394455531,51.462367098231
END:VEVENT
BEGIN:VEVENT
DTSTART;TZID=Europe/London:20220928T120000
DTEND;TZID=Europe/London:20220928T170000
DTSTAMP:20260421T113112
CREATED:20220720T131454Z
LAST-MODIFIED:20220913T121105Z
UID:10014812-1664366400-1664384400@dev.prsc.org.uk
SUMMARY:Volunteer with The People’s Archive of Stokes Croft
DESCRIPTION:The People’s Archive of Stokes Croft is looking to turn the existing archive at PRSC into a resource which is accessible and usable to the public. The archive contains a range of fascinating and beautiful documents relating to the history of Stokes Croft and the political struggles and campaigns that have emerged out of the area during the last decade. \nWe are curating and digitising parts of the archive\, but we can’t do it alone. We need help from others and would love to have the involvement of anyone who is interested in street culture\, local history or archiving. Currently the main jobs involve looking through the archive\, selecting objects that we feel are relevant\, then scanning and labelling them\, but there’s scope to get involved in whatever aspect interests you. \nIf this sounds like your sorta thing\, come along to one of our drop in sessions\, every Wednesday 12:00 – 17:00 @ PRSC Library. Ring the doorbell at 14 Hillgrove St (to the left of the Space door). \nYou can contact us at email hidden; JavaScript is required to find out more.
URL:https://dev.prsc.org.uk/event/the-peoples-archive-10/
LOCATION:PRSC Library\, 14 Hillgrove Street\, Bristol\, BS2 8JP\, United Kingdom
CATEGORIES:Activity,The People's Archive,Volunteer
ATTACH;FMTTYPE=image/gif:https://dev.prsc.org.uk/wp-content/uploads/2022/07/Archive-gif-versionv-2.gif
END:VEVENT
BEGIN:VEVENT
DTSTART;TZID=Europe/London:20220921T120000
DTEND;TZID=Europe/London:20220921T170000
DTSTAMP:20260421T113112
CREATED:20220720T131454Z
LAST-MODIFIED:20220913T121025Z
UID:10014809-1663761600-1663779600@dev.prsc.org.uk
SUMMARY:Volunteer with The People’s Archive of Stokes Croft
DESCRIPTION:The People’s Archive of Stokes Croft is looking to turn the existing archive at PRSC into a resource which is accessible and usable to the public. The archive contains a range of fascinating and beautiful documents relating to the history of Stokes Croft and the political struggles and campaigns that have emerged out of the area during the last decade. \nWe are curating and digitising parts of the archive\, but we can’t do it alone. We need help from others and would love to have the involvement of anyone who is interested in street culture\, local history or archiving. Currently the main jobs involve looking through the archive\, selecting objects that we feel are relevant\, then scanning and labelling them\, but there’s scope to get involved in whatever aspect interests you. \nIf this sounds like your sorta thing\, come along to one of our drop in sessions\, every Wednesday 12:00 – 17:00 @ PRSC Library. Ring the doorbell at 14 Hillgrove St (to the left of the Space door). \nYou can contact us at email hidden; JavaScript is required to find out more.
URL:https://dev.prsc.org.uk/event/the-peoples-archive-9/
LOCATION:PRSC Library\, 14 Hillgrove Street\, Bristol\, BS2 8JP\, United Kingdom
CATEGORIES:Activity,The People's Archive,Volunteer
ATTACH;FMTTYPE=image/gif:https://dev.prsc.org.uk/wp-content/uploads/2022/07/Archive-gif-versionv-2.gif
END:VEVENT
BEGIN:VEVENT
DTSTART;TZID=Europe/London:20220907T120000
DTEND;TZID=Europe/London:20220907T170000
DTSTAMP:20260421T113112
CREATED:20220720T131454Z
LAST-MODIFIED:20220815T165350Z
UID:10014810-1662552000-1662570000@dev.prsc.org.uk
SUMMARY:Volunteer with The People’s Archive of Stokes Croft
DESCRIPTION:The People’s Archive of Stokes Croft is looking to turn the existing archive at PRSC into a resource which is accessible and usable to the public. The archive contains a range of fascinating and beautiful documents relating to the history of Stokes Croft and the political struggles and campaigns that have emerged out of the area during the last decade. \nWe are curating and digitising parts of the archive\, but we can’t do it alone. We need help from others and would love to have the involvement of anyone who is interested in street culture\, local history or archiving. Currently the main jobs involve looking through the archive\, selecting objects that we feel are relevant\, then scanning and labelling them\, but there’s scope to get involved in whatever aspect interests you. \nIf this sounds like your sorta thing\, come along to one of our drop in sessions\, every Wednesday 12:00 – 17:00 @ PRSC Library. Ring the doorbell at 14 Hillgrove St (to the left of the Space door). \nYou can contact us at email hidden; JavaScript is required to find out more.
URL:https://dev.prsc.org.uk/event/the-peoples-archive-8/
LOCATION:PRSC Library\, 14 Hillgrove Street\, Bristol\, BS2 8JP\, United Kingdom
CATEGORIES:Activity,The People's Archive,Volunteer
ATTACH;FMTTYPE=image/gif:https://dev.prsc.org.uk/wp-content/uploads/2022/07/Archive-gif-versionv-2.gif
END:VEVENT
BEGIN:VEVENT
DTSTART;TZID=Europe/London:20220831T120000
DTEND;TZID=Europe/London:20220831T170000
DTSTAMP:20260421T113112
CREATED:20220720T131454Z
LAST-MODIFIED:20220815T165319Z
UID:10014808-1661947200-1661965200@dev.prsc.org.uk
SUMMARY:Volunteer with The People’s Archive of Stokes Croft
DESCRIPTION:The People’s Archive of Stokes Croft is looking to turn the existing archive at PRSC into a resource which is accessible and usable to the public. The archive contains a range of fascinating and beautiful documents relating to the history of Stokes Croft and the political struggles and campaigns that have emerged out of the area during the last decade. \nWe are curating and digitising parts of the archive\, but we can’t do it alone. We need help from others and would love to have the involvement of anyone who is interested in street culture\, local history or archiving. Currently the main jobs involve looking through the archive\, selecting objects that we feel are relevant\, then scanning and labelling them\, but there’s scope to get involved in whatever aspect interests you. \nIf this sounds like your sorta thing\, come along to one of our drop in sessions\, every Wednesday 12:00 – 17:00 @ PRSC Library. Ring the doorbell at 14 Hillgrove St (to the left of the Space door). \nYou can contact us at email hidden; JavaScript is required to find out more.
URL:https://dev.prsc.org.uk/event/the-peoples-archive-7/
LOCATION:PRSC Library\, 14 Hillgrove Street\, Bristol\, BS2 8JP\, United Kingdom
CATEGORIES:Activity,The People's Archive,Volunteer
ATTACH;FMTTYPE=image/gif:https://dev.prsc.org.uk/wp-content/uploads/2022/07/Archive-gif-versionv-2.gif
END:VEVENT
BEGIN:VEVENT
DTSTART;TZID=Europe/London:20220824T120000
DTEND;TZID=Europe/London:20220824T170000
DTSTAMP:20260421T113112
CREATED:20220720T131454Z
LAST-MODIFIED:20220815T165248Z
UID:10014807-1661342400-1661360400@dev.prsc.org.uk
SUMMARY:Volunteer with The People’s Archive of Stokes Croft
DESCRIPTION:The People’s Archive of Stokes Croft is looking to turn the existing archive at PRSC into a resource which is accessible and usable to the public. The archive contains a range of fascinating and beautiful documents relating to the history of Stokes Croft and the political struggles and campaigns that have emerged out of the area during the last decade. \nWe are curating and digitising parts of the archive\, but we can’t do it alone. We need help from others and would love to have the involvement of anyone who is interested in street culture\, local history or archiving. Currently the main jobs involve looking through the archive\, selecting objects that we feel are relevant\, then scanning and labelling them\, but there’s scope to get involved in whatever aspect interests you. \nIf this sounds like your sorta thing\, come along to one of our drop in sessions\, every Wednesday 12:00 – 17:00 @ PRSC Library. Ring the doorbell at 14 Hillgrove St (to the left of the Space door). \nYou can contact us at email hidden; JavaScript is required to find out more.
URL:https://dev.prsc.org.uk/event/the-peoples-archive-6/
LOCATION:PRSC Library\, 14 Hillgrove Street\, Bristol\, BS2 8JP\, United Kingdom
CATEGORIES:Activity,The People's Archive,Volunteer
ATTACH;FMTTYPE=image/gif:https://dev.prsc.org.uk/wp-content/uploads/2022/07/Archive-gif-versionv-2.gif
END:VEVENT
BEGIN:VEVENT
DTSTART;TZID=Europe/London:20220817T120000
DTEND;TZID=Europe/London:20220817T170000
DTSTAMP:20260421T113113
CREATED:20220720T131454Z
LAST-MODIFIED:20220815T165219Z
UID:10014806-1660737600-1660755600@dev.prsc.org.uk
SUMMARY:Volunteer with The People’s Archive of Stokes Croft
DESCRIPTION:The People’s Archive of Stokes Croft is looking to turn the existing archive at PRSC into a resource which is accessible and usable to the public. The archive contains a range of fascinating and beautiful documents relating to the history of Stokes Croft and the political struggles and campaigns that have emerged out of the area during the last decade. \nWe are curating and digitising parts of the archive\, but we can’t do it alone. We need help from others and would love to have the involvement of anyone who is interested in street culture\, local history or archiving. Currently the main jobs involve looking through the archive\, selecting objects that we feel are relevant\, then scanning and labelling them\, but there’s scope to get involved in whatever aspect interests you. \nIf this sounds like your sorta thing\, come along to one of our drop in sessions\, every Wednesday 12:00 – 17:00 @ PRSC Library. Ring the doorbell at 14 Hillgrove St (to the left of the Space door). \nYou can contact us at email hidden; JavaScript is required to find out more.
URL:https://dev.prsc.org.uk/event/the-peoples-archive-5/
LOCATION:PRSC Library\, 14 Hillgrove Street\, Bristol\, BS2 8JP\, United Kingdom
CATEGORIES:Activity,The People's Archive,Volunteer
ATTACH;FMTTYPE=image/gif:https://dev.prsc.org.uk/wp-content/uploads/2022/07/Archive-gif-versionv-2.gif
END:VEVENT
BEGIN:VEVENT
DTSTART;TZID=Europe/London:20220810T120000
DTEND;TZID=Europe/London:20220810T170000
DTSTAMP:20260421T113113
CREATED:20220720T131454Z
LAST-MODIFIED:20220727T102521Z
UID:10014805-1660132800-1660150800@dev.prsc.org.uk
SUMMARY:Volunteer with The People’s Archive of Stokes Croft
DESCRIPTION:The People’s Archive of Stokes Croft is looking to turn the existing archive at PRSC into a resource which is accessible and usable to the public. The archive contains a range of fascinating and beautiful documents relating to the history of Stokes Croft and the political struggles and campaigns that have emerged out of the area during the last decade. \nWe are curating and digitising parts of the archive\, but we can’t do it alone. We need help from others and would love to have the involvement of anyone who is interested in street culture\, local history or archiving. Currently the main jobs involve looking through the archive\, selecting objects that we feel are relevant\, then scanning and labelling them\, but there’s scope to get involved in whatever aspect interests you. \nIf this sounds like your sorta thing\, come along to one of our drop in sessions\, every Wednesday 12:00 – 17:00 @ PRSC Library. Ring the doorbell at 14 Hillgrove St (to the left of the Space door). \nYou can contact us at email hidden; JavaScript is required to find out more.
URL:https://dev.prsc.org.uk/event/the-peoples-archive-4/
LOCATION:PRSC Library\, 14 Hillgrove Street\, Bristol\, BS2 8JP\, United Kingdom
CATEGORIES:Activity,The People's Archive,Volunteer
ATTACH;FMTTYPE=image/gif:https://dev.prsc.org.uk/wp-content/uploads/2022/07/Archive-gif-versionv-2.gif
END:VEVENT
BEGIN:VEVENT
DTSTART;TZID=Europe/London:20220803T120000
DTEND;TZID=Europe/London:20220803T170000
DTSTAMP:20260421T113113
CREATED:20220720T131454Z
LAST-MODIFIED:20220727T102541Z
UID:10014804-1659528000-1659546000@dev.prsc.org.uk
SUMMARY:Volunteer with The People’s Archive of Stokes Croft
DESCRIPTION:The People’s Archive of Stokes Croft is looking to turn the existing archive at PRSC into a resource which is accessible and usable to the public. The archive contains a range of fascinating and beautiful documents relating to the history of Stokes Croft and the political struggles and campaigns that have emerged out of the area during the last decade. \nWe are curating and digitising parts of the archive\, but we can’t do it alone. We need help from others and would love to have the involvement of anyone who is interested in street culture\, local history or archiving. Currently the main jobs involve looking through the archive\, selecting objects that we feel are relevant\, then scanning and labelling them\, but there’s scope to get involved in whatever aspect interests you. \nIf this sounds like your sorta thing\, come along to one of our drop in sessions\, every Wednesday 12:00 – 17:00 @ PRSC Library. Ring the doorbell at 14 Hillgrove St (to the left of the Space door). \nYou can contact us at email hidden; JavaScript is required to find out more.
URL:https://dev.prsc.org.uk/event/the-peoples-archive-3/
LOCATION:PRSC Library\, 14 Hillgrove Street\, Bristol\, BS2 8JP\, United Kingdom
CATEGORIES:Activity,The People's Archive,Volunteer
ATTACH;FMTTYPE=image/gif:https://dev.prsc.org.uk/wp-content/uploads/2022/07/Archive-gif-versionv-2.gif
END:VEVENT
BEGIN:VEVENT
DTSTART;TZID=Europe/London:20220727T120000
DTEND;TZID=Europe/London:20220727T170000
DTSTAMP:20260421T113113
CREATED:20220720T131454Z
LAST-MODIFIED:20220720T133249Z
UID:10014803-1658923200-1658941200@dev.prsc.org.uk
SUMMARY:Volunteer with The People’s Archive of Stokes Croft
DESCRIPTION:The People’s Archive of Stokes Croft is looking to turn the existing archive at PRSC into a resource which is accessible and usable to the public. The archive contains a range of fascinating and beautiful documents relating to the history of Stokes Croft and the political struggles and campaigns that have emerged out of the area during the last decade. \nWe are curating and digitising parts of the archive\, but we can’t do it alone. We need help from others and would love to have the involvement of anyone who is interested. Currently the main jobs involve looking through the archive\, selecting objects that we feel are relevant\, then scanning and labelling them\, but there’s scope to get involved in whatever aspect interests you. \nIf this sounds like your sorta thing\, come along to one of our drop in sessions\, every Wednesday 12:00 – 17:00 @ PRSC Library. Ring the doorbell at 14 Hillgrove St (to the left of the Space door). \nYou can contact us at email hidden; JavaScript is required to find out more.
URL:https://dev.prsc.org.uk/event/the-peoples-archive-2/
LOCATION:PRSC Library\, 14 Hillgrove Street\, Bristol\, BS2 8JP\, United Kingdom
CATEGORIES:Activity,The People's Archive,Volunteer
ATTACH;FMTTYPE=image/gif:https://dev.prsc.org.uk/wp-content/uploads/2022/07/Archive-gif-versionv-2.gif
END:VEVENT
BEGIN:VEVENT
DTSTART;TZID=Europe/London:20220720T120000
DTEND;TZID=Europe/London:20220720T170000
DTSTAMP:20260421T113113
CREATED:20220720T131454Z
LAST-MODIFIED:20220720T133131Z
UID:10014802-1658318400-1658336400@dev.prsc.org.uk
SUMMARY:Volunteer with The People’s Archive of Stokes Croft
DESCRIPTION:The People’s Archive of Stokes Croft is looking to turn the existing archive at PRSC into a resource which is accessible and usable to the public. The archive contains a range of fascinating and beautiful documents relating to the history of Stokes Croft and the political struggles and campaigns that have emerged out of the area during the last decade. \nWe are curating and digitising parts of the archive\, but we can’t do it alone. We need help from others and would love to have the involvement of anyone who is interested. Currently the main jobs involve looking through the archive\, selecting objects that we feel are relevant\, then scanning and labelling them\, but there’s scope to get involved in whatever aspect interests you. \nIf this sounds like your sorta thing\, come along to one of our drop in sessions\, every Wednesday 12:00 – 17:00 @ PRSC Library. Ring the doorbell at 14 Hillgrove St (to the left of the Space door). \nYou can contact us at email hidden; JavaScript is required to find out more.
URL:https://dev.prsc.org.uk/event/the-peoples-archive/
LOCATION:PRSC Library\, 14 Hillgrove Street\, Bristol\, BS2 8JP\, United Kingdom
CATEGORIES:Activity,The People's Archive,Volunteer
ATTACH;FMTTYPE=image/gif:https://dev.prsc.org.uk/wp-content/uploads/2022/07/Archive-gif-versionv-2.gif
END:VEVENT
END:VCALENDAR