BEGIN:VCALENDAR
VERSION:2.0
PRODID:-//PEOPLES REPUBLIC OF STOKES CROFT - ECPv6.15.20//NONSGML v1.0//EN
CALSCALE:GREGORIAN
METHOD:PUBLISH
X-ORIGINAL-URL:https://dev.prsc.org.uk
X-WR-CALDESC:Events for PEOPLES REPUBLIC OF STOKES CROFT
REFRESH-INTERVAL;VALUE=DURATION:PT1H
X-Robots-Tag:noindex
X-PUBLISHED-TTL:PT1H
BEGIN:VTIMEZONE
TZID:Europe/London
BEGIN:DAYLIGHT
TZOFFSETFROM:+0000
TZOFFSETTO:+0100
TZNAME:BST
DTSTART:20200329T010000
END:DAYLIGHT
BEGIN:STANDARD
TZOFFSETFROM:+0100
TZOFFSETTO:+0000
TZNAME:GMT
DTSTART:20201025T010000
END:STANDARD
BEGIN:DAYLIGHT
TZOFFSETFROM:+0000
TZOFFSETTO:+0100
TZNAME:BST
DTSTART:20210328T010000
END:DAYLIGHT
BEGIN:STANDARD
TZOFFSETFROM:+0100
TZOFFSETTO:+0000
TZNAME:GMT
DTSTART:20211031T010000
END:STANDARD
BEGIN:DAYLIGHT
TZOFFSETFROM:+0000
TZOFFSETTO:+0100
TZNAME:BST
DTSTART:20220327T010000
END:DAYLIGHT
BEGIN:STANDARD
TZOFFSETFROM:+0100
TZOFFSETTO:+0000
TZNAME:GMT
DTSTART:20221030T010000
END:STANDARD
END:VTIMEZONE
BEGIN:VEVENT
DTSTART;TZID=Europe/London:20211015T190000
DTEND;TZID=Europe/London:20211019T220000
DTSTAMP:20260422T005142
CREATED:20210705T104858Z
LAST-MODIFIED:20211005T110557Z
UID:10014281-1634324400-1634680800@dev.prsc.org.uk
SUMMARY:The People's Theatre present "Do you want some toxic masculinity with that?"
DESCRIPTION:Book Tickets\nPerformed at 19:00 daily from Friday 15 – Tuesday 19 October \nThe People’s Theatre are proud to announce their first play: “Do you want some toxic masculinity with that?” \nThe play is about the negative\, insidious consequences of toxic masculinity\, of not opening up / speaking your truth / dealing with the root causes of whatever mental health issue you may be facing. At the same time\, the play showcases the positive\, cathartic effects that opening up and owning your reality has for each and every person. Who will you empathise with more? \nAs the play is performed\, you’ll wonder how many people on Park Street\, Stokes Croft\, Kings Street and so on are suffering in silence… Are enacting the very ills the play hopes to expose… Both through comedy and tragedy. \nThe People’s Theatre comes off the back of the recent success of The People’s Comedy\, a night started at the PRSC\, showcasing didactic comedians and raising thousands in ticket sales which have gone straight back to the acts. The key pillar for The People’s Theatre is getting everyday folks’ bums on seats. Contrary to popular belief\, theatre from Aristophanes to Shakespeare was a consumable for the masses\, not the elite. Living up to this reality is a singular aim of TPT. \nTickets are £8 each or get four for £20 – available now from Headfirst »
URL:https://dev.prsc.org.uk/event/the-peoples-theatre-2/
LOCATION:SPACE at PRSC\, 17-25 Jamaica St\, Bristol\, BS2 8JW\, United Kingdom
CATEGORIES:Performance,Politics,The People's Theatre,Theatre
ATTACH;FMTTYPE=image/png:https://dev.prsc.org.uk/wp-content/uploads/2021/07/Untitled-design-1.png
GEO:51.462367098231;-2.5910394455531
X-APPLE-STRUCTURED-LOCATION;VALUE=URI;X-ADDRESS=SPACE at PRSC 17-25 Jamaica St Bristol BS2 8JW United Kingdom;X-APPLE-RADIUS=500;X-TITLE=17-25 Jamaica St:geo:-2.5910394455531,51.462367098231
END:VEVENT
BEGIN:VEVENT
DTSTART;TZID=Europe/London:20210924T200000
DTEND;TZID=Europe/London:20210924T220000
DTSTAMP:20260422T005142
CREATED:20210705T104858Z
LAST-MODIFIED:20250408T125407Z
UID:10014674-1632513600-1632520800@dev.prsc.org.uk
SUMMARY:The People's Theatre present "Do you want some toxic masculinity with that?"
DESCRIPTION:Book Tickets\nThe People’s Theatre are proud to announce their first play: “Do you want some toxic masculinity with that?” \nThe play is about the negative\, insidious consequences of toxic masculinity\, of not opening up / speaking your truth / dealing with the root causes of whatever mental health issue you may be facing. At the same time\, the play showcases the positive\, cathartic effects that opening up and owning your reality has for each and every person. Who will you empathise with more? \nAs the play is performed\, you’ll wonder how many people on Park Street\, Stokes Croft\, Kings Street and so on are suffering in silence… Are enacting the very ills the play hopes to expose… Both through comedy and tragedy. \nThe People’s Theatre comes off the back of the recent success of The People’s Comedy\, a night started at the PRSC\, showcasing didactic comedians and raising thousands in ticket sales which have gone straight back to the acts. The key pillar for The People’s Theatre is getting everyday folks’ bums on seats. Contrary to popular belief\, theatre from Aristophanes to Shakespeare was a consumable for the masses\, not the elite. Living up to this reality is a singular aim of TPT. \nTickets are £4 each or four for £10 – get yours now from Headfirst. \n\nPeople's Art Fair: Friday 17 September - Sunday 26 September 2021\nThe People's Art Fair encompasses a group exhibition\, performances\, creative workshops & activities\, and a makers market! Open to artists\, makers\, photographers\, painters\, sculptors and creatives of all shapes and flavours\, the People's Art Fair acts as a celebration of culture and expressive art. \n\nMost of the artworks are available to buy\, along with prints\, cards\, badges\, stickers and other smaller bits\, and the bar will be open for soft drinks\, hot drinks and locally sourced beer\, cider & wine.\n\n\nPeople’s Art Fair: Opening PartyJoin us for art\, drinks\, music\, and a first look at this massive exhibition - this is a great opportunity to meet some of the artists involved! Thu 16 Sep\, 2021 @ 18:00 - 21:00\n\n\nPeople’s Art Fair: Autumn ShowThe People’s Art Fair is a collaborative group exhibition devised and hosted by the PRSC and open to all artists. See The People's Art Fair for details of how to get involved. Thursday 16 September\, 2021 @ 18:00 - Sunday 26 September\, 2021 @ 18:00Domino Painting Drop-in WorkshopWe supply the materials and invite you to participate in painting a miniature domino as part of a 1000 piece commemorative monolith. All skills welcome! Part of the People's Art Fair. Thursday 16 September\, 2021 @ 18:00 - Sunday 26 September\, 2021 @ 18:00The People’s Jam SessionA music jam session hosted by the Suspicious Jazz Roll Ups\, the musical team that helped to kick off our first People's Art Fair back in February 2020. Part of the People's Art Fair. Friday 17 September\, 2021 @ 19:00Cork Creature Faerie Drop-in WorkshopEvery cork is a precious mystical being waiting to be transformed by a human into it's true form! Part of the People's Art Fair. Saturday 18 September\, 2021 @ 13:00 - 16:00Cork Creature WorkshopEvery cork is a precious mystical being waiting to be transformed by a human into it's true form! Part of the People's Art Fair. Wednesday 22 September\, 2021 @ 18:00 - 19:30The People’s PoetryA brand new open mic poetry & spoken word night. Part of the People's Art Fair. Thursday 23 September\, 2021 @ 19:00 - 22:30The People’s Theatre present “Do you want some toxic masculinity with that?”A brand new performance series\, by the people\, for the people. Part of the People's Art Fair. Friday 24 September\, 2021 @ 20:00 - 22:00Art Market @ People’s Art FairArt market - in addition to the exhibition! Part of the People's Art Fair. Saturday 25 September\, 2021 @ 12:00 - Sunday 26 September\, 2021 @ 18:00Octopus Odyssey Collage ClubA creative space for all ages to have fun with mixed media collage elements in order to create your own wonderful reality. Part of the People's Art Fair. Saturday 25 September\, 2021 @ 13:00 - 16:00
URL:https://dev.prsc.org.uk/event/the-peoples-theatre/
LOCATION:SPACE at PRSC\, 17-25 Jamaica St\, Bristol\, BS2 8JW\, United Kingdom
CATEGORIES:People's Art Fair,Performance,Politics,The People's Theatre,Theatre
ATTACH;FMTTYPE=image/png:https://dev.prsc.org.uk/wp-content/uploads/2021/07/Untitled-design-1.png
GEO:51.462367098231;-2.5910394455531
X-APPLE-STRUCTURED-LOCATION;VALUE=URI;X-ADDRESS=SPACE at PRSC 17-25 Jamaica St Bristol BS2 8JW United Kingdom;X-APPLE-RADIUS=500;X-TITLE=17-25 Jamaica St:geo:-2.5910394455531,51.462367098231
END:VEVENT
END:VCALENDAR