BEGIN:VCALENDAR
VERSION:2.0
PRODID:-//PEOPLES REPUBLIC OF STOKES CROFT - ECPv6.15.20//NONSGML v1.0//EN
CALSCALE:GREGORIAN
METHOD:PUBLISH
X-ORIGINAL-URL:https://dev.prsc.org.uk
X-WR-CALDESC:Events for PEOPLES REPUBLIC OF STOKES CROFT
REFRESH-INTERVAL;VALUE=DURATION:PT1H
X-Robots-Tag:noindex
X-PUBLISHED-TTL:PT1H
BEGIN:VTIMEZONE
TZID:Europe/London
BEGIN:DAYLIGHT
TZOFFSETFROM:+0000
TZOFFSETTO:+0100
TZNAME:BST
DTSTART:20180325T010000
END:DAYLIGHT
BEGIN:STANDARD
TZOFFSETFROM:+0100
TZOFFSETTO:+0000
TZNAME:GMT
DTSTART:20181028T010000
END:STANDARD
BEGIN:DAYLIGHT
TZOFFSETFROM:+0000
TZOFFSETTO:+0100
TZNAME:BST
DTSTART:20190331T010000
END:DAYLIGHT
BEGIN:STANDARD
TZOFFSETFROM:+0100
TZOFFSETTO:+0000
TZNAME:GMT
DTSTART:20191027T010000
END:STANDARD
BEGIN:DAYLIGHT
TZOFFSETFROM:+0000
TZOFFSETTO:+0100
TZNAME:BST
DTSTART:20200329T010000
END:DAYLIGHT
BEGIN:STANDARD
TZOFFSETFROM:+0100
TZOFFSETTO:+0000
TZNAME:GMT
DTSTART:20201025T010000
END:STANDARD
END:VTIMEZONE
BEGIN:VEVENT
DTSTART;TZID=Europe/London:20191205T120000
DTEND;TZID=Europe/London:20191205T150000
DTSTAMP:20260421T115620
CREATED:20191120T150412Z
LAST-MODIFIED:20191127T123332Z
UID:10014482-1575547200-1575558000@dev.prsc.org.uk
SUMMARY:Seamus Fox - author of No Homeless Problem - Showcase
DESCRIPTION:Free entry\, free refreshments\, cakes\, snacks – everyone welcomed. This event will feature the work of Seamus Fox. Fox came to understand the social and human injustices that result in so many people finding themselves living in the streets. His work is to be heeded and embraced at this illuminating event.
URL:https://dev.prsc.org.uk/event/no-homeless-problem-book-reading/
LOCATION:SPACE at PRSC\, 17-25 Jamaica St\, Bristol\, BS2 8JW\, United Kingdom
CATEGORIES:Book Tour,Poetry
ATTACH;FMTTYPE=image/jpeg:https://dev.prsc.org.uk/wp-content/uploads/2019/11/homelessbook-1200px.jpg
ORGANIZER;CN="Arkbound Foundation":MAILTO:mrhpalmer@hotmail.com
GEO:51.462367098231;-2.5910394455531
X-APPLE-STRUCTURED-LOCATION;VALUE=URI;X-ADDRESS=SPACE at PRSC 17-25 Jamaica St Bristol BS2 8JW United Kingdom;X-APPLE-RADIUS=500;X-TITLE=17-25 Jamaica St:geo:-2.5910394455531,51.462367098231
END:VEVENT
END:VCALENDAR