BEGIN:VCALENDAR
VERSION:2.0
PRODID:-//PEOPLES REPUBLIC OF STOKES CROFT - ECPv6.15.20//NONSGML v1.0//EN
CALSCALE:GREGORIAN
METHOD:PUBLISH
X-WR-CALNAME:PEOPLES REPUBLIC OF STOKES CROFT
X-ORIGINAL-URL:https://dev.prsc.org.uk
X-WR-CALDESC:Events for PEOPLES REPUBLIC OF STOKES CROFT
REFRESH-INTERVAL;VALUE=DURATION:PT1H
X-Robots-Tag:noindex
X-PUBLISHED-TTL:PT1H
BEGIN:VTIMEZONE
TZID:Europe/London
BEGIN:DAYLIGHT
TZOFFSETFROM:+0000
TZOFFSETTO:+0100
TZNAME:BST
DTSTART:20200329T010000
END:DAYLIGHT
BEGIN:STANDARD
TZOFFSETFROM:+0100
TZOFFSETTO:+0000
TZNAME:GMT
DTSTART:20201025T010000
END:STANDARD
BEGIN:DAYLIGHT
TZOFFSETFROM:+0000
TZOFFSETTO:+0100
TZNAME:BST
DTSTART:20210328T010000
END:DAYLIGHT
BEGIN:STANDARD
TZOFFSETFROM:+0100
TZOFFSETTO:+0000
TZNAME:GMT
DTSTART:20211031T010000
END:STANDARD
BEGIN:DAYLIGHT
TZOFFSETFROM:+0000
TZOFFSETTO:+0100
TZNAME:BST
DTSTART:20220327T010000
END:DAYLIGHT
BEGIN:STANDARD
TZOFFSETFROM:+0100
TZOFFSETTO:+0000
TZNAME:GMT
DTSTART:20221030T010000
END:STANDARD
END:VTIMEZONE
BEGIN:VEVENT
DTSTART;TZID=Europe/London:20211127T180000
DTEND;TZID=Europe/London:20211127T220000
DTSTAMP:20260422T000959
CREATED:20211103T175039Z
LAST-MODIFIED:20211126T151907Z
UID:10014742-1638036000-1638050400@dev.prsc.org.uk
SUMMARY:Gentrification: how to make community ownership viable
DESCRIPTION:Are you interested in issues around land justice and community ownership? Tired of watching the city\, reshaped by market forces\, becoming ever more hostile to local communities and creatives? So are we! \nJoin us in the fight to turn the tables on the profiteering developers and faceless corporations taking over our city! Years in the planning\, this November we’re ridiculously excited to be launching the Stokes Croft Land Trust Community Share Offer to buy PRSC HQ and retain it as a cultural hub in the hands of the community – your hands! \nTo accompany the launch of this share offer\, the Stokes Croft Land Trust has joined forces with the Bristol Community Land Trust to bring you an evening of talks and discussions around the fascinating issues of gentrification and community ownership. \nWe have a line up of amazing guest speakers from across the co-op and community wealth building world\, looking at everything from anti-gentrification to how you ensure local control through sustainable community ownership. \nThe evening will focus on the questions:\n+ Community? What does it mean and what role does a community have?\n+ Land – How can the community own land and what does land and what does land justice really mean? \nSpeakers include:\n+ Henry Palmer\, author of Voices of Bristol: Gentrification and Us\n+ Taus Larsen\, Furze Co-op\n+ Acorn (TBC)\n+ Steve Dale\, CEO of BCLT\n+ Maddy Longhurst & Rachel Butler\, directors of Tiny Homes Bristol\n+ Keith Cowling\, Trustee of PRSC and Stokes Croft Land Trust \nThe Stokes Croft Land Trust exhibition is free to enter and open 12-6pm every day from Friday 26 November to Sunday 5 December\, with a Launch Party from 6-9pm on Thursday 25 November. \n\nThe Stokes Croft Land Trust Community Share Offer launches Thursday 25 November\, with a series of events...\n&starf; Stokes Croft Land Trust Launch Party // Thu 25 Nov @ 18:00 // Free entry\n&starf; Stokes Croft Land Trust Exhibition // Fri 26 Nov - Sun 5 Dec @ 12:00 - 18:00 daily // Free entry\n&starf; Gentrification: how to make community ownership viable // Sat 27 Nov @ 18:00 // Free entry\n&starf; What is Community Wealth Building\, and how to make it work // Wed 1 Dec @ 18:00 // Free entry\n&starf; Land Justice Film Night // Thu 2 Dec @ 18:00 // Free entry\n&starf; The People’s Comedy // Fri 3 Dec @ 18:00 // £6
URL:https://dev.prsc.org.uk/event/gentrification/
LOCATION:SPACE at PRSC\, 17-25 Jamaica St\, Bristol\, BS2 8JW\, United Kingdom
CATEGORIES:Art Exhibition,Exhibition,Fundraiser,Politics,Stokes Croft Land Trust,Talk
ATTACH;FMTTYPE=image/jpeg:https://dev.prsc.org.uk/wp-content/uploads/2019/12/7July-Turbo-Island.jpg
GEO:51.462367098231;-2.5910394455531
X-APPLE-STRUCTURED-LOCATION;VALUE=URI;X-ADDRESS=SPACE at PRSC 17-25 Jamaica St Bristol BS2 8JW United Kingdom;X-APPLE-RADIUS=500;X-TITLE=17-25 Jamaica St:geo:-2.5910394455531,51.462367098231
END:VEVENT
END:VCALENDAR