BEGIN:VCALENDAR
VERSION:2.0
PRODID:-//PEOPLES REPUBLIC OF STOKES CROFT - ECPv6.15.20//NONSGML v1.0//EN
CALSCALE:GREGORIAN
METHOD:PUBLISH
X-ORIGINAL-URL:https://dev.prsc.org.uk
X-WR-CALDESC:Events for PEOPLES REPUBLIC OF STOKES CROFT
REFRESH-INTERVAL;VALUE=DURATION:PT1H
X-Robots-Tag:noindex
X-PUBLISHED-TTL:PT1H
BEGIN:VTIMEZONE
TZID:Europe/London
BEGIN:DAYLIGHT
TZOFFSETFROM:+0000
TZOFFSETTO:+0100
TZNAME:BST
DTSTART:20210328T010000
END:DAYLIGHT
BEGIN:STANDARD
TZOFFSETFROM:+0100
TZOFFSETTO:+0000
TZNAME:GMT
DTSTART:20211031T010000
END:STANDARD
BEGIN:DAYLIGHT
TZOFFSETFROM:+0000
TZOFFSETTO:+0100
TZNAME:BST
DTSTART:20220327T010000
END:DAYLIGHT
BEGIN:STANDARD
TZOFFSETFROM:+0100
TZOFFSETTO:+0000
TZNAME:GMT
DTSTART:20221030T010000
END:STANDARD
BEGIN:DAYLIGHT
TZOFFSETFROM:+0000
TZOFFSETTO:+0100
TZNAME:BST
DTSTART:20230326T010000
END:DAYLIGHT
BEGIN:STANDARD
TZOFFSETFROM:+0100
TZOFFSETTO:+0000
TZNAME:GMT
DTSTART:20231029T010000
END:STANDARD
END:VTIMEZONE
BEGIN:VEVENT
DTSTART;TZID=Europe/London:20221111T190000
DTEND;TZID=Europe/London:20221112T000000
DTSTAMP:20260422T041501
CREATED:20220901T103831Z
LAST-MODIFIED:20221109T154509Z
UID:10014821-1668193200-1668211200@dev.prsc.org.uk
SUMMARY:Bristol Gentrification presents: Is Bristol destined to become gentrified? + trippy Greek Symposium style after party
DESCRIPTION:TicketsIn simple terms\, gentrification is the migration of a higher socio-economic class of people into an area that traditionally housed those from a lower socio-economic class background. Across the UK\, the more inner-city you go\, the higher the influx of more affluent people you’ll find\, encouraged by job and investment opportunities\, amenities\, convenience\, and everything in-between. If you know Bristol\, think about how Easton\, Bedminster\, St Pauls etc. are changing and you have an idea of gentrification already. \nAlthough there are sometimes “positives” that result from gentrification\, such as lower crime rates\, cleaner areas\, regenerated buildings\, the bad always outweighs the good. It necessarily always has done so since it was first conceived in the early 60s by Islington sociologist Ruth Glass. \nThe phenomenon is mostly caused by the affordable housing endemic that our country faces\, and results in social ills such as: homelessness\, which is set to increase by a 1/3rd by 2024 (66\,000 more people than today – ref.1); unaffordable exclusion zones or “exclusionary displacement” (ref.2); the direct displacement of social housing residents (ref.3); cultural alienation that leads to residents moving away (ref.4)\, increased inequality and much else besides. \nBristol was the 5th most expensive place to live in the UK last year (Zoopla)\, and the uncivilized statistics above increasingly plague our city due to private developer greed\, neoliberal government policies and inept politicians. \nCome along and hear: \n★ Personal testimonials witnessing the change in St Pauls – Lawrence Hoo (poet)\n★ Bristol as part of the national picture – Vicky Spratt (i’s Housing Correspondent; author Tenants: Stories of Britain’s Housing Shame)\n★ The role that social housing can play – Matthew Buckham (Communities Director\, Sovereign Housing)\n★ How is Bristol fighting back? – Cllr. Tom Renard (Bristol’s Cabinet Member for Housing)\n★ and speakers from the Stokes Croft Land Trust \nWith questions and discussion then being opened to the floor/discussion panellists. \nEvent by BristolGentrification.\nChaired by Henry Palmer\, author of Voices of Bristol: Gentrification & Us (2019) \nActions from the event:\n★ Donations for PRSC / support PRSC in other way (suggestions tbc)\n★ Join a union (with suggestions and how tbc)\n★ Vote for the right policies/sign and share petitions lobbying your local representative (with suggestions tbc)
URL:https://dev.prsc.org.uk/event/is-bristol-destined-to-become-gentrified/
LOCATION:SPACE at PRSC\, 17-25 Jamaica St\, Bristol\, BS2 8JW\, United Kingdom
CATEGORIES:Community Meeting,Debate,Discussion,Politics,Talk
ATTACH;FMTTYPE=image/jpeg:https://dev.prsc.org.uk/wp-content/uploads/2022/09/304666473_488700876595068_2929443415790248524_n.jpg
GEO:51.462367098231;-2.5910394455531
X-APPLE-STRUCTURED-LOCATION;VALUE=URI;X-ADDRESS=SPACE at PRSC 17-25 Jamaica St Bristol BS2 8JW United Kingdom;X-APPLE-RADIUS=500;X-TITLE=17-25 Jamaica St:geo:-2.5910394455531,51.462367098231
END:VEVENT
END:VCALENDAR