BEGIN:VCALENDAR
VERSION:2.0
PRODID:-//PEOPLES REPUBLIC OF STOKES CROFT - ECPv6.15.20//NONSGML v1.0//EN
CALSCALE:GREGORIAN
METHOD:PUBLISH
X-WR-CALNAME:PEOPLES REPUBLIC OF STOKES CROFT
X-ORIGINAL-URL:https://dev.prsc.org.uk
X-WR-CALDESC:Events for PEOPLES REPUBLIC OF STOKES CROFT
REFRESH-INTERVAL;VALUE=DURATION:PT1H
X-Robots-Tag:noindex
X-PUBLISHED-TTL:PT1H
BEGIN:VTIMEZONE
TZID:Europe/London
BEGIN:DAYLIGHT
TZOFFSETFROM:+0000
TZOFFSETTO:+0100
TZNAME:BST
DTSTART:20220327T010000
END:DAYLIGHT
BEGIN:STANDARD
TZOFFSETFROM:+0100
TZOFFSETTO:+0000
TZNAME:GMT
DTSTART:20221030T010000
END:STANDARD
BEGIN:DAYLIGHT
TZOFFSETFROM:+0000
TZOFFSETTO:+0100
TZNAME:BST
DTSTART:20230326T010000
END:DAYLIGHT
BEGIN:STANDARD
TZOFFSETFROM:+0100
TZOFFSETTO:+0000
TZNAME:GMT
DTSTART:20231029T010000
END:STANDARD
BEGIN:DAYLIGHT
TZOFFSETFROM:+0000
TZOFFSETTO:+0100
TZNAME:BST
DTSTART:20240331T010000
END:DAYLIGHT
BEGIN:STANDARD
TZOFFSETFROM:+0100
TZOFFSETTO:+0000
TZNAME:GMT
DTSTART:20241027T010000
END:STANDARD
END:VTIMEZONE
BEGIN:VEVENT
DTSTART;TZID=Europe/London:20230523T183000
DTEND;TZID=Europe/London:20230523T213000
DTSTAMP:20260421T184647
CREATED:20230515T173346Z
LAST-MODIFIED:20230515T173446Z
UID:10014493-1684866600-1684877400@dev.prsc.org.uk
SUMMARY:The 5 Pillars of the Kurdish Women's Movement: Organisation #1
DESCRIPTION:Seminars about the 5 pillars of the Kurdistan Women’s movement (with vegan dinner!)\nThe Kurdistan Women’s movement offers us huge hope and inspiration. This is an opportunity for us to learn\, share food and spend time together as feminist groups in Bristol. \nWe are running seminars over the next 10 months and we would love to invite you! There will be 1 every 2 months\, each covering a different pillar of the Kurdistan Women’s Movement. \nWHEN & WHERE:\n• 23rd of May\, 6.30-9.30pm\, PRSC – Organisation\n• 18th of July – Struggle\n• 19th of September – Free thought and free will\n• 21st of November – Ethics and aesthetics\n• 23rd of January 2024 – Welatparazî (love for the homeland) \nNo previous knowledge is required! We suggest people attend all 5 sessions but each one will be easy to follow in itself. \nWHO CAN JOIN?\nThese seminars are for women and people with experience of womanhood. This includes our trans\, cis and non-binary comrades. \nHOW TO JOIN:\nSo that we can plan for food please email us at least 48 hours before if you’ll be attending – email hidden; JavaScript is required \nWe would love to see you there! In solidarity\,\nBKSN Jin (autonomous womens structure)
URL:https://dev.prsc.org.uk/event/the-5-pillars-of-the-kurdish-womens-movement-organisation-1/
LOCATION:SPACE at PRSC\, 17-25 Jamaica St\, Bristol\, BS2 8JW\, United Kingdom
CATEGORIES:Activity,Community Meeting,Discussion,Politics
ATTACH;FMTTYPE=image/jpeg:https://dev.prsc.org.uk/wp-content/uploads/2023/05/poster-crop.jpg
ORGANIZER;CN="Bristol Kurdistan Solidarity Network":MAILTO:BKSN5pillars@proton.me
GEO:51.462367098231;-2.5910394455531
X-APPLE-STRUCTURED-LOCATION;VALUE=URI;X-ADDRESS=SPACE at PRSC 17-25 Jamaica St Bristol BS2 8JW United Kingdom;X-APPLE-RADIUS=500;X-TITLE=17-25 Jamaica St:geo:-2.5910394455531,51.462367098231
END:VEVENT
END:VCALENDAR