BEGIN:VCALENDAR
VERSION:2.0
PRODID:-//PEOPLES REPUBLIC OF STOKES CROFT - ECPv6.15.20//NONSGML v1.0//EN
CALSCALE:GREGORIAN
METHOD:PUBLISH
X-WR-CALNAME:PEOPLES REPUBLIC OF STOKES CROFT
X-ORIGINAL-URL:https://dev.prsc.org.uk
X-WR-CALDESC:Events for PEOPLES REPUBLIC OF STOKES CROFT
REFRESH-INTERVAL;VALUE=DURATION:PT1H
X-Robots-Tag:noindex
X-PUBLISHED-TTL:PT1H
BEGIN:VTIMEZONE
TZID:Europe/London
BEGIN:DAYLIGHT
TZOFFSETFROM:+0000
TZOFFSETTO:+0100
TZNAME:BST
DTSTART:20230326T010000
END:DAYLIGHT
BEGIN:STANDARD
TZOFFSETFROM:+0100
TZOFFSETTO:+0000
TZNAME:GMT
DTSTART:20231029T010000
END:STANDARD
BEGIN:DAYLIGHT
TZOFFSETFROM:+0000
TZOFFSETTO:+0100
TZNAME:BST
DTSTART:20240331T010000
END:DAYLIGHT
BEGIN:STANDARD
TZOFFSETFROM:+0100
TZOFFSETTO:+0000
TZNAME:GMT
DTSTART:20241027T010000
END:STANDARD
BEGIN:DAYLIGHT
TZOFFSETFROM:+0000
TZOFFSETTO:+0100
TZNAME:BST
DTSTART:20250330T010000
END:DAYLIGHT
BEGIN:STANDARD
TZOFFSETFROM:+0100
TZOFFSETTO:+0000
TZNAME:GMT
DTSTART:20251026T010000
END:STANDARD
END:VTIMEZONE
BEGIN:VEVENT
DTSTART;TZID=Europe/London:20240707T113000
DTEND;TZID=Europe/London:20240707T113000
DTSTAMP:20260421T124050
CREATED:20240703T170927Z
LAST-MODIFIED:20240703T170927Z
UID:10015126-1720351800-1720351800@dev.prsc.org.uk
SUMMARY:Bristol World Naked Bike Ride
DESCRIPTION:Every year\, in cities around the world\, people ride bikes naked to celebrate cycling and the human body. The ride demonstrates the vulnerability of cyclists on the road\, and is a protest against car culture. This year marks 20 years of World Naked Bike Rides in Bristol! \nMore information\n\n\nDress code for the ride is “as bare as you dare!“\nIndoor space to gather before and after ride\nBody painting areas\, toilets\, bar\, and a secure yard area for bikes\nGentle 6½ mile ride with some stops along the way\nThe ride is cleared with the police\nExperienced ride marshals to keep everyone safe\nBring body paints\, rattles\, whistles\, bubbles\, etc.\nUnder-18s must be accompanied by an adult\nSupporters
URL:https://dev.prsc.org.uk/event/bristol-world-naked-bike-ride/
LOCATION:SPACE at PRSC\, 17-25 Jamaica St\, Bristol\, BS2 8JW\, United Kingdom
CATEGORIES:Activity,Exercise,Movement,Politics,Protest
ATTACH;FMTTYPE=image/jpeg:https://dev.prsc.org.uk/wp-content/uploads/2024/07/wnbr.jpg
GEO:51.462367098231;-2.5910394455531
X-APPLE-STRUCTURED-LOCATION;VALUE=URI;X-ADDRESS=SPACE at PRSC 17-25 Jamaica St Bristol BS2 8JW United Kingdom;X-APPLE-RADIUS=500;X-TITLE=17-25 Jamaica St:geo:-2.5910394455531,51.462367098231
END:VEVENT
END:VCALENDAR