BEGIN:VCALENDAR
VERSION:2.0
PRODID:-//PEOPLES REPUBLIC OF STOKES CROFT - ECPv6.15.20//NONSGML v1.0//EN
CALSCALE:GREGORIAN
METHOD:PUBLISH
X-WR-CALNAME:PEOPLES REPUBLIC OF STOKES CROFT
X-ORIGINAL-URL:https://dev.prsc.org.uk
X-WR-CALDESC:Events for PEOPLES REPUBLIC OF STOKES CROFT
REFRESH-INTERVAL;VALUE=DURATION:PT1H
X-Robots-Tag:noindex
X-PUBLISHED-TTL:PT1H
BEGIN:VTIMEZONE
TZID:Europe/London
BEGIN:DAYLIGHT
TZOFFSETFROM:+0000
TZOFFSETTO:+0100
TZNAME:BST
DTSTART:20210328T010000
END:DAYLIGHT
BEGIN:STANDARD
TZOFFSETFROM:+0100
TZOFFSETTO:+0000
TZNAME:GMT
DTSTART:20211031T010000
END:STANDARD
BEGIN:DAYLIGHT
TZOFFSETFROM:+0000
TZOFFSETTO:+0100
TZNAME:BST
DTSTART:20220327T010000
END:DAYLIGHT
BEGIN:STANDARD
TZOFFSETFROM:+0100
TZOFFSETTO:+0000
TZNAME:GMT
DTSTART:20221030T010000
END:STANDARD
BEGIN:DAYLIGHT
TZOFFSETFROM:+0000
TZOFFSETTO:+0100
TZNAME:BST
DTSTART:20230326T010000
END:DAYLIGHT
BEGIN:STANDARD
TZOFFSETFROM:+0100
TZOFFSETTO:+0000
TZNAME:GMT
DTSTART:20231029T010000
END:STANDARD
BEGIN:DAYLIGHT
TZOFFSETFROM:+0000
TZOFFSETTO:+0100
TZNAME:BST
DTSTART:20240331T010000
END:DAYLIGHT
BEGIN:STANDARD
TZOFFSETFROM:+0100
TZOFFSETTO:+0000
TZNAME:GMT
DTSTART:20241027T010000
END:STANDARD
BEGIN:DAYLIGHT
TZOFFSETFROM:+0000
TZOFFSETTO:+0100
TZNAME:BST
DTSTART:20250330T010000
END:DAYLIGHT
BEGIN:STANDARD
TZOFFSETFROM:+0100
TZOFFSETTO:+0000
TZNAME:GMT
DTSTART:20251026T010000
END:STANDARD
BEGIN:DAYLIGHT
TZOFFSETFROM:+0000
TZOFFSETTO:+0100
TZNAME:BST
DTSTART:20260329T010000
END:DAYLIGHT
BEGIN:STANDARD
TZOFFSETFROM:+0100
TZOFFSETTO:+0000
TZNAME:GMT
DTSTART:20261025T010000
END:STANDARD
END:VTIMEZONE
BEGIN:VEVENT
DTSTART;TZID=Europe/London:20250127T183000
DTEND;TZID=Europe/London:20250127T200000
DTSTAMP:20260421T155441
CREATED:20241023T134227Z
LAST-MODIFIED:20250203T175946Z
UID:10014591-1738002600-1738008000@dev.prsc.org.uk
SUMMARY:Bristol Women's Voice Choir - Raise your Voice through Song
DESCRIPTION:Join us for a weekly choir session with Gena Rose and raise your voice through song. \nFollowing on from the popular Empower Your Voice workshop at our International Women’s Day 2024\, we are incredibly excited to work with Gena Rose again to set up a Bristol Women’s Voice Choir. Gena has transformed lives\, inspired social action and created change with her music and work\, including the set up of the Windrush Reggae and One Love Choirs. Now\, together\, we want to do the same with a women’s choir. \nNo singing experience required. Term-time only. \nPayment: \nTo help us continue running these sessions and covering the costs of the venue\, printing costs\, etc we ask for a small contribution from participants. Advance payment is preferred\, please go here: https://www.bristolwomensvoice.org.uk/product/bwv-choir-fees/ \nPay as you Go: \n\n£5 open concessions*\n£7 standard\n£9 pay it forward**\n\nPay in Block: \n\n1 month: £26\n1 month open concession*: £19\n3 month: £77\n3 month open concession*: £55\n\nYou will receive a confirmation email when you book on EventBrite with a payment link or you can follow the link above. \nFirst taster session is free. \nAny enquiries\, please contact us on email hidden; JavaScript is required \nIf you would like to attend but payment is a barrier\, please get in touch with us email hidden; JavaScript is required\, we have volunteer opportunity available on the day. \n*open concessions: we don’t require you to bring any proof of your concession status. If our standard prices are simply out of reach at the moment\, you can also opt for our open concession ticket with no questions asked. \n** pay it forward: this will support access to the choir for someone who may not be able to afford it. \nFor the sake of clarity\, this is a trans inclusive space open to anyone who identifies with the word ‘woman’.
URL:https://dev.prsc.org.uk/event/bristol-womens-voice-choir-raise-your-voice-through-song/2025-01-27/
LOCATION:SPACE at PRSC\, 17-25 Jamaica St\, Bristol\, BS2 8JW\, United Kingdom
CATEGORIES:Activity,Choir,Music
ATTACH;FMTTYPE=image/jpeg:https://dev.prsc.org.uk/wp-content/uploads/2024/10/bwv-genarose.jpg
GEO:51.462367098231;-2.5910394455531
X-APPLE-STRUCTURED-LOCATION;VALUE=URI;X-ADDRESS=SPACE at PRSC 17-25 Jamaica St Bristol BS2 8JW United Kingdom;X-APPLE-RADIUS=500;X-TITLE=17-25 Jamaica St:geo:-2.5910394455531,51.462367098231
END:VEVENT
BEGIN:VEVENT
DTSTART;TZID=Europe/London:20221022T100000
DTEND;TZID=Europe/London:20221022T150000
DTSTAMP:20260421T155441
CREATED:20221018T122807Z
LAST-MODIFIED:20221018T122807Z
UID:10014827-1666432800-1666450800@dev.prsc.org.uk
SUMMARY:Mummies\, get ready!
DESCRIPTION:Get together and make protest signs in preparation for Bristol’s edition of the UK-wide March of the Mummies\, organised by Pregnant Then Screwed\, on Saturday October 29th 2022. \nMaterials are available but in the spirit of community\, keeping costs down\, re-using and recycling\, please bring old fabrics\, paints\, brushes\, sticks and cardboard for yourself and to share with others. \nPop in any time from 10am until 3pm. \nProtest banner slogan ideas »
URL:https://dev.prsc.org.uk/event/mummies-get-ready/
LOCATION:SPACE at PRSC\, 17-25 Jamaica St\, Bristol\, BS2 8JW\, United Kingdom
CATEGORIES:Activity,Community Meeting,Politics,Protest
ATTACH;FMTTYPE=image/jpeg:https://dev.prsc.org.uk/wp-content/uploads/2022/10/Get-ready-Make-protest-signs.jpg
GEO:51.462367098231;-2.5910394455531
X-APPLE-STRUCTURED-LOCATION;VALUE=URI;X-ADDRESS=SPACE at PRSC 17-25 Jamaica St Bristol BS2 8JW United Kingdom;X-APPLE-RADIUS=500;X-TITLE=17-25 Jamaica St:geo:-2.5910394455531,51.462367098231
END:VEVENT
END:VCALENDAR