BEGIN:VCALENDAR
VERSION:2.0
PRODID:-//PEOPLES REPUBLIC OF STOKES CROFT - ECPv6.15.20//NONSGML v1.0//EN
CALSCALE:GREGORIAN
METHOD:PUBLISH
X-ORIGINAL-URL:https://dev.prsc.org.uk
X-WR-CALDESC:Events for PEOPLES REPUBLIC OF STOKES CROFT
REFRESH-INTERVAL;VALUE=DURATION:PT1H
X-Robots-Tag:noindex
X-PUBLISHED-TTL:PT1H
BEGIN:VTIMEZONE
TZID:Europe/London
BEGIN:DAYLIGHT
TZOFFSETFROM:+0000
TZOFFSETTO:+0100
TZNAME:BST
DTSTART:20160327T010000
END:DAYLIGHT
BEGIN:STANDARD
TZOFFSETFROM:+0100
TZOFFSETTO:+0000
TZNAME:GMT
DTSTART:20161030T010000
END:STANDARD
BEGIN:DAYLIGHT
TZOFFSETFROM:+0000
TZOFFSETTO:+0100
TZNAME:BST
DTSTART:20170326T010000
END:DAYLIGHT
BEGIN:STANDARD
TZOFFSETFROM:+0100
TZOFFSETTO:+0000
TZNAME:GMT
DTSTART:20171029T010000
END:STANDARD
BEGIN:DAYLIGHT
TZOFFSETFROM:+0000
TZOFFSETTO:+0100
TZNAME:BST
DTSTART:20180325T010000
END:DAYLIGHT
BEGIN:STANDARD
TZOFFSETFROM:+0100
TZOFFSETTO:+0000
TZNAME:GMT
DTSTART:20181028T010000
END:STANDARD
BEGIN:DAYLIGHT
TZOFFSETFROM:+0000
TZOFFSETTO:+0100
TZNAME:BST
DTSTART:20190331T010000
END:DAYLIGHT
BEGIN:STANDARD
TZOFFSETFROM:+0100
TZOFFSETTO:+0000
TZNAME:GMT
DTSTART:20191027T010000
END:STANDARD
BEGIN:DAYLIGHT
TZOFFSETFROM:+0000
TZOFFSETTO:+0100
TZNAME:BST
DTSTART:20200329T010000
END:DAYLIGHT
BEGIN:STANDARD
TZOFFSETFROM:+0100
TZOFFSETTO:+0000
TZNAME:GMT
DTSTART:20201025T010000
END:STANDARD
BEGIN:DAYLIGHT
TZOFFSETFROM:+0000
TZOFFSETTO:+0100
TZNAME:BST
DTSTART:20210328T010000
END:DAYLIGHT
BEGIN:STANDARD
TZOFFSETFROM:+0100
TZOFFSETTO:+0000
TZNAME:GMT
DTSTART:20211031T010000
END:STANDARD
END:VTIMEZONE
BEGIN:VEVENT
DTSTART;TZID=Europe/London:20200220T180000
DTEND;TZID=Europe/London:20200220T200000
DTSTAMP:20260422T001001
CREATED:20200212T143241Z
LAST-MODIFIED:20200212T143241Z
UID:10014540-1582221600-1582228800@dev.prsc.org.uk
SUMMARY:Bristol Young Labour Leadership Debate
DESCRIPTION:Young Labour members across Bristol will discuss the future of the Labour Party\, and who should be leading it.
URL:https://dev.prsc.org.uk/event/bristol-young-labour-leadership-debate/
LOCATION:SPACE at PRSC\, 17-25 Jamaica St\, Bristol\, BS2 8JW\, United Kingdom
CATEGORIES:Debate,Discussion,Politics
ATTACH;FMTTYPE=image/jpeg:https://dev.prsc.org.uk/wp-content/uploads/2020/02/younglabour.jpg
GEO:51.462367098231;-2.5910394455531
X-APPLE-STRUCTURED-LOCATION;VALUE=URI;X-ADDRESS=SPACE at PRSC 17-25 Jamaica St Bristol BS2 8JW United Kingdom;X-APPLE-RADIUS=500;X-TITLE=17-25 Jamaica St:geo:-2.5910394455531,51.462367098231
END:VEVENT
BEGIN:VEVENT
DTSTART;TZID=Europe/London:20180703T180000
DTEND;TZID=Europe/London:20180703T200000
DTSTAMP:20260422T001001
CREATED:20180615T133207Z
LAST-MODIFIED:20180615T152742Z
UID:10014122-1530640800-1530648000@dev.prsc.org.uk
SUMMARY:AGM - Bristol Young Labour
DESCRIPTION:BYL are holding our AGM on Tuesday 3 July!\nCome along to vote for your new committee for 2018-19. \nIf you’d like to run for a position\, please email bristolyounglabour@gmail.com with a maximum 100 word statement on why you think you’d be a good candidate \n \nYou must be a member of the Labour party in Bristol and aged 26 or under to attend. For further details please join our Facebook group here: https://www.facebook.com/groups/1508232242832042/
URL:https://dev.prsc.org.uk/event/agm-bristol-young-labour/
LOCATION:17-35 Jamaica Street\, Stokes Croft\, Bristol\, BS2 8JP\, United Kingdom
CATEGORIES:Meeting,Politics
ATTACH;FMTTYPE=image/jpeg:https://dev.prsc.org.uk/wp-content/uploads/2018/06/AOWvI9dI_400x400.jpg
END:VEVENT
BEGIN:VEVENT
DTSTART;TZID=Europe/London:20171017T180000
DTEND;TZID=Europe/London:20171017T200000
DTSTAMP:20260422T001001
CREATED:20171006T155500Z
LAST-MODIFIED:20171006T155500Z
UID:10013914-1508263200-1508270400@dev.prsc.org.uk
SUMMARY:Prof Nick Pearce - Politics and policy
DESCRIPTION:Eminent scholar Prof Nick Pearce will be speaking to Bristol Young Labour Members about politics and policy\, with plenty of chances for you to ask questions and discuss the ideas put forward. \nProf Nick currently runs the Institute for Policy Research at Bath Uni where his projects include:\n– The idea of the Anglosphere in British Politics\n– Examining universal basic income\n– Open City: London after Brexit\n– The Scottish Labour Party\n– The political economy of welfare state reform \nBefore this\, he ran the IPPR (there is a theme in his thinktank names)\, which is one of the best known leftwing thinktanks in the UK. \nHe also ran Gordon Brown’s policy unit from 2008-2010 and so will undoubtedly have some insights about how the next Labour government can form\, excecute and update its programme. \nIt is likely that afterwards we will head somewhere for a ~lemonade~.
URL:https://dev.prsc.org.uk/event/prof-nick-pearce-politics-and-policy/
LOCATION:17-35 Jamaica Street\, Stokes Croft\, Bristol\, BS2 8JP\, United Kingdom
CATEGORIES:Discussion
ATTACH;FMTTYPE=image/png:https://dev.prsc.org.uk/wp-content/uploads/2017/10/Screen-Shot-2017-10-06-at-16.48.35.png
END:VEVENT
END:VCALENDAR