BEGIN:VCALENDAR
VERSION:2.0
PRODID:-//PEOPLES REPUBLIC OF STOKES CROFT - ECPv6.15.20//NONSGML v1.0//EN
CALSCALE:GREGORIAN
METHOD:PUBLISH
X-ORIGINAL-URL:https://dev.prsc.org.uk
X-WR-CALDESC:Events for PEOPLES REPUBLIC OF STOKES CROFT
REFRESH-INTERVAL;VALUE=DURATION:PT1H
X-Robots-Tag:noindex
X-PUBLISHED-TTL:PT1H
BEGIN:VTIMEZONE
TZID:Europe/London
BEGIN:DAYLIGHT
TZOFFSETFROM:+0000
TZOFFSETTO:+0100
TZNAME:BST
DTSTART:20240331T010000
END:DAYLIGHT
BEGIN:STANDARD
TZOFFSETFROM:+0100
TZOFFSETTO:+0000
TZNAME:GMT
DTSTART:20241027T010000
END:STANDARD
BEGIN:DAYLIGHT
TZOFFSETFROM:+0000
TZOFFSETTO:+0100
TZNAME:BST
DTSTART:20250330T010000
END:DAYLIGHT
BEGIN:STANDARD
TZOFFSETFROM:+0100
TZOFFSETTO:+0000
TZNAME:GMT
DTSTART:20251026T010000
END:STANDARD
BEGIN:DAYLIGHT
TZOFFSETFROM:+0000
TZOFFSETTO:+0100
TZNAME:BST
DTSTART:20260329T010000
END:DAYLIGHT
BEGIN:STANDARD
TZOFFSETFROM:+0100
TZOFFSETTO:+0000
TZNAME:GMT
DTSTART:20261025T010000
END:STANDARD
END:VTIMEZONE
BEGIN:VEVENT
DTSTART;TZID=Europe/London:20250427T193000
DTEND;TZID=Europe/London:20250427T230000
DTSTAMP:20260422T124152
CREATED:20250326T142143Z
LAST-MODIFIED:20250326T142143Z
UID:10015161-1745782200-1745794800@dev.prsc.org.uk
SUMMARY:Chandra Moon Album Release Party
DESCRIPTION:TicketsI have recently completed my third album of original songs “Until I See You Stand” and can’t wait to share it with you. \nI’m looking forward to play you songs from the new and previous two albums – it’ll be our first gig since the pandemic disrupted us all! \nI hope you can come – I’ll play a full set with Paddy Uglow and Jimi Can (Chandra Moon Trio) plus we’ll finish with a great set from DJ Dan! Licenced Bar. \nSupport act by Liz Conteh – singer songwriter
URL:https://dev.prsc.org.uk/event/chandra-moon-album-release-party/
LOCATION:SPACE at PRSC\, 17-25 Jamaica St\, Bristol\, BS2 8JW\, United Kingdom
CATEGORIES:Album Launch,Live Music,Music,Performance
ATTACH;FMTTYPE=image/jpeg:https://dev.prsc.org.uk/wp-content/uploads/2025/03/chandra-moon-party.jpg
GEO:51.462367098231;-2.5910394455531
X-APPLE-STRUCTURED-LOCATION;VALUE=URI;X-ADDRESS=SPACE at PRSC 17-25 Jamaica St Bristol BS2 8JW United Kingdom;X-APPLE-RADIUS=500;X-TITLE=17-25 Jamaica St:geo:-2.5910394455531,51.462367098231
END:VEVENT
END:VCALENDAR