BEGIN:VCALENDAR
VERSION:2.0
PRODID:-//PEOPLES REPUBLIC OF STOKES CROFT - ECPv6.15.20//NONSGML v1.0//EN
CALSCALE:GREGORIAN
METHOD:PUBLISH
X-WR-CALNAME:PEOPLES REPUBLIC OF STOKES CROFT
X-ORIGINAL-URL:https://dev.prsc.org.uk
X-WR-CALDESC:Events for PEOPLES REPUBLIC OF STOKES CROFT
REFRESH-INTERVAL;VALUE=DURATION:PT1H
X-Robots-Tag:noindex
X-PUBLISHED-TTL:PT1H
BEGIN:VTIMEZONE
TZID:Europe/London
BEGIN:DAYLIGHT
TZOFFSETFROM:+0000
TZOFFSETTO:+0100
TZNAME:BST
DTSTART:20170326T010000
END:DAYLIGHT
BEGIN:STANDARD
TZOFFSETFROM:+0100
TZOFFSETTO:+0000
TZNAME:GMT
DTSTART:20171029T010000
END:STANDARD
BEGIN:DAYLIGHT
TZOFFSETFROM:+0000
TZOFFSETTO:+0100
TZNAME:BST
DTSTART:20180325T010000
END:DAYLIGHT
BEGIN:STANDARD
TZOFFSETFROM:+0100
TZOFFSETTO:+0000
TZNAME:GMT
DTSTART:20181028T010000
END:STANDARD
BEGIN:DAYLIGHT
TZOFFSETFROM:+0000
TZOFFSETTO:+0100
TZNAME:BST
DTSTART:20190331T010000
END:DAYLIGHT
BEGIN:STANDARD
TZOFFSETFROM:+0100
TZOFFSETTO:+0000
TZNAME:GMT
DTSTART:20191027T010000
END:STANDARD
END:VTIMEZONE
BEGIN:VEVENT
DTSTART;TZID=Europe/London:20181124T190000
DTEND;TZID=Europe/London:20181124T220000
DTSTAMP:20260423T122754
CREATED:20181105T181427Z
LAST-MODIFIED:20181105T181427Z
UID:10013871-1543086000-1543096800@dev.prsc.org.uk
SUMMARY:The Constant Drone
DESCRIPTION:TICKETS FOR THURSDAY 22nd: https://www.headfirstbristol.co.uk/#date=2018-11-22&event_id=49376 \nTICKETS FOR FRIDAY 23rd: https://www.headfirstbristol.co.uk/#date=2018-11-23&event_id=49421 \nTICKETS FOR SATURDAY 24th:\nhttps://www.headfirstbristol.co.uk/#date=2018-11-24&event_id=49422 \nSet in the kitchen of a house in the suburbs of a city built around a large generator\, The Constant Drone examines our relationship to silence\, time\, apocalypse and waiting. The Drone\, an ever present hum created by The Generator\, guards the characters from their fear of silence. But as the volume decreases\, chaotic unrest draws ever closer. \nThe Constant Drone will be performed at The Space on Jamaica Street on the 22nd\, 23rd and 24th November. Doors open at 7.00 and the performance begins at 7.30pm. The run time is approximately 1hr 45 minutes\, including a 15 minute interval. \nWe regret that there will not be a BSL interpreted or audio description performance available on the current run of The Constant Drone. The building is wheelchair accessible. \nPlease be aware that this performance has prominent use of constant low level sound\, and profanity. Recommended age 15+ \n“An extraordinary piece- inventive and sustained\, with echoes of all kinds of things (Beckett\, Heathcote Williams\, Materlinck\, Churchill) and a constantly sharp and witty playfulness about language and the real that it is referencing. A comic-poetic distortion of now.” – Professor Graham White \nWritten and Directed by Nick Fogarty\nProduction and Assistant Direction by Summer O’Brien\nSound Design by Joe Hill\nSet Design by Cal McCutcheon\nGraphic Design by Dan Covill \nCast:\nElliot Warren\nKeziah Spaine\nTony Mohammad\nGeorge Mesure\nJohn Jones\nJulia Vita
URL:https://dev.prsc.org.uk/event/the-constant-drone/2018-11-24/
LOCATION:SPACE at PRSC\, 17-25 Jamaica St\, Bristol\, BS2 8JW\, United Kingdom
CATEGORIES:Performance,Theatre
ATTACH;FMTTYPE=image/jpeg:https://dev.prsc.org.uk/wp-content/uploads/2018/11/constant_drone.jpg
ORGANIZER;CN="DarkPlace Productions":MAILTO:darkplaceproductioncompany@gmail.com
GEO:51.462367098231;-2.5910394455531
X-APPLE-STRUCTURED-LOCATION;VALUE=URI;X-ADDRESS=SPACE at PRSC 17-25 Jamaica St Bristol BS2 8JW United Kingdom;X-APPLE-RADIUS=500;X-TITLE=17-25 Jamaica St:geo:-2.5910394455531,51.462367098231
END:VEVENT
END:VCALENDAR