BEGIN:VCALENDAR
VERSION:2.0
PRODID:-//PEOPLES REPUBLIC OF STOKES CROFT - ECPv6.15.20//NONSGML v1.0//EN
CALSCALE:GREGORIAN
METHOD:PUBLISH
X-WR-CALNAME:PEOPLES REPUBLIC OF STOKES CROFT
X-ORIGINAL-URL:https://dev.prsc.org.uk
X-WR-CALDESC:Events for PEOPLES REPUBLIC OF STOKES CROFT
REFRESH-INTERVAL;VALUE=DURATION:PT1H
X-Robots-Tag:noindex
X-PUBLISHED-TTL:PT1H
BEGIN:VTIMEZONE
TZID:Europe/London
BEGIN:DAYLIGHT
TZOFFSETFROM:+0000
TZOFFSETTO:+0100
TZNAME:BST
DTSTART:20160327T010000
END:DAYLIGHT
BEGIN:STANDARD
TZOFFSETFROM:+0100
TZOFFSETTO:+0000
TZNAME:GMT
DTSTART:20161030T010000
END:STANDARD
BEGIN:DAYLIGHT
TZOFFSETFROM:+0000
TZOFFSETTO:+0100
TZNAME:BST
DTSTART:20170326T010000
END:DAYLIGHT
BEGIN:STANDARD
TZOFFSETFROM:+0100
TZOFFSETTO:+0000
TZNAME:GMT
DTSTART:20171029T010000
END:STANDARD
BEGIN:DAYLIGHT
TZOFFSETFROM:+0000
TZOFFSETTO:+0100
TZNAME:BST
DTSTART:20180325T010000
END:DAYLIGHT
BEGIN:STANDARD
TZOFFSETFROM:+0100
TZOFFSETTO:+0000
TZNAME:GMT
DTSTART:20181028T010000
END:STANDARD
END:VTIMEZONE
BEGIN:VEVENT
DTSTART;TZID=Europe/London:20170817T173000
DTEND;TZID=Europe/London:20170817T190000
DTSTAMP:20260421T220941
CREATED:20170815T141844Z
LAST-MODIFIED:20170815T141844Z
UID:10013893-1502991000-1502996400@dev.prsc.org.uk
SUMMARY:Film and Animation Screening - Digital Witness & Golden Key
DESCRIPTION:Over the past six months\, Developing Health & Independence (DHI) in partnership with DIGITAL WITNESS have had the privilige to begin to build a community of short films with a number of peers. \nThese are a series of short animations looking at some of the complex trauma the group both support\, and are in recovery from. They were made in agency with an organisation called ‘Young Minds’. \nThese are individual pieces\, told through the medium of digital storytelling. We hope they start to facilitate an opportunity for personal healing\, along with the chance to start reconnecting with their community. \nWe are fortunate to include the work from another project completed by peers from Golden Key Peer mentor service. \nDate: Thursday 17 August\, 17:30\nLocation: PRSC SPACE\, 17-25 Jamaica Street\, Stokes Croft\, Bristol \nDeveloping Health & Independence is a charity that challenges social exclusion by supporting people to achieve their potential and contribute to the richness and wellbeing of their community. DHI deals not only with the health and emotional wellbeing of our clients\, but also with practical issues such as housing\, social isolation\, and lack of basic education and employable skills. \nLink to Facebook event
URL:https://dev.prsc.org.uk/event/film-and-animation-screening-digital-witness-golden-key/
LOCATION:17-35 Jamaica Street\, Stokes Croft\, Bristol\, BS2 8JP\, United Kingdom
CATEGORIES:Film
END:VEVENT
END:VCALENDAR