BEGIN:VCALENDAR
VERSION:2.0
PRODID:-//PEOPLES REPUBLIC OF STOKES CROFT - ECPv6.15.20//NONSGML v1.0//EN
CALSCALE:GREGORIAN
METHOD:PUBLISH
X-ORIGINAL-URL:https://dev.prsc.org.uk
X-WR-CALDESC:Events for PEOPLES REPUBLIC OF STOKES CROFT
REFRESH-INTERVAL;VALUE=DURATION:PT1H
X-Robots-Tag:noindex
X-PUBLISHED-TTL:PT1H
BEGIN:VTIMEZONE
TZID:Europe/London
BEGIN:DAYLIGHT
TZOFFSETFROM:+0000
TZOFFSETTO:+0100
TZNAME:BST
DTSTART:20170326T010000
END:DAYLIGHT
BEGIN:STANDARD
TZOFFSETFROM:+0100
TZOFFSETTO:+0000
TZNAME:GMT
DTSTART:20171029T010000
END:STANDARD
BEGIN:DAYLIGHT
TZOFFSETFROM:+0000
TZOFFSETTO:+0100
TZNAME:BST
DTSTART:20180325T010000
END:DAYLIGHT
BEGIN:STANDARD
TZOFFSETFROM:+0100
TZOFFSETTO:+0000
TZNAME:GMT
DTSTART:20181028T010000
END:STANDARD
BEGIN:DAYLIGHT
TZOFFSETFROM:+0000
TZOFFSETTO:+0100
TZNAME:BST
DTSTART:20190331T010000
END:DAYLIGHT
BEGIN:STANDARD
TZOFFSETFROM:+0100
TZOFFSETTO:+0000
TZNAME:GMT
DTSTART:20191027T010000
END:STANDARD
END:VTIMEZONE
BEGIN:VEVENT
DTSTART;TZID=Europe/London:20180126T180000
DTEND;TZID=Europe/London:20180128T170000
DTSTAMP:20260422T205544
CREATED:20180109T163821Z
LAST-MODIFIED:20180109T164443Z
UID:10010159-1516989600-1517158800@dev.prsc.org.uk
SUMMARY:Side by Side
DESCRIPTION:An exhibition of photographs by Lisa Furness and Sarah Scruff. \nFri 18:00-22:00 | Sat 12:00-19:00 | Sun 12:00-17:00 \nRunning over a single weekend\, Side by Side reveals the parallel journeys of two photographers over several years. Their images are presented as separate but sympathetic collections\, echoing each other and creating new meanings and visual connections in a shared environment. \nLisa’s photography takes an aesthetic tour through squatted communities across Europe\, inviting the viewer to explore and enjoy these unique spaces. Sarah photographs colours\, light and pattern wherever she finds them\, here delving into some of the themes that have emerged over time. \nLisa and Sarah met through the Bristol photography collective Second Look\, and worked on numerous group exhibitions and events together over many years\, discovering a mutual love of colour and free exhibition wine. They collaborated on a photographic study of abandoned airports and a ghost resort in Spain\, with the focus on a single subject emphasising the marked contrast between their photographic styles. \nConsidering how to present these images led to a broader look at their respective bodies of work. Recognising shared themes and recurring visual motifs despite their differing approaches and subject matter\, Lisa and Sarah have decided to bring their pictures together and allow them to converse in a single space. \nFREE ENTRY\nFriday 26 January 18:00 – 22:00\nSaturday 27 January 12:00 – 19:00\nSunday 28 January 12:00 – 17:00 \nSpace at PRSC\, 17-25 Jamaica St\, Bristol BS2 8JP \nLisa Furness: www.furnessphotography.com\nSarah Macfarlane: www.redkids.co.nz/things | Beautiful Things in Foreign Lands
URL:https://dev.prsc.org.uk/event/side-by-side/
LOCATION:17-35 Jamaica Street\, Stokes Croft\, Bristol\, BS2 8JP\, United Kingdom
CATEGORIES:Art Exhibition,Photography Exhibition
ATTACH;FMTTYPE=image/jpeg:https://dev.prsc.org.uk/wp-content/uploads/2018/01/1801sidebyside.jpg
END:VEVENT
END:VCALENDAR