BEGIN:VCALENDAR
VERSION:2.0
PRODID:-//PEOPLES REPUBLIC OF STOKES CROFT - ECPv6.15.20//NONSGML v1.0//EN
CALSCALE:GREGORIAN
METHOD:PUBLISH
X-ORIGINAL-URL:https://dev.prsc.org.uk
X-WR-CALDESC:Events for PEOPLES REPUBLIC OF STOKES CROFT
REFRESH-INTERVAL;VALUE=DURATION:PT1H
X-Robots-Tag:noindex
X-PUBLISHED-TTL:PT1H
BEGIN:VTIMEZONE
TZID:Europe/London
BEGIN:DAYLIGHT
TZOFFSETFROM:+0000
TZOFFSETTO:+0100
TZNAME:BST
DTSTART:20230326T010000
END:DAYLIGHT
BEGIN:STANDARD
TZOFFSETFROM:+0100
TZOFFSETTO:+0000
TZNAME:GMT
DTSTART:20231029T010000
END:STANDARD
BEGIN:DAYLIGHT
TZOFFSETFROM:+0000
TZOFFSETTO:+0100
TZNAME:BST
DTSTART:20240331T010000
END:DAYLIGHT
BEGIN:STANDARD
TZOFFSETFROM:+0100
TZOFFSETTO:+0000
TZNAME:GMT
DTSTART:20241027T010000
END:STANDARD
BEGIN:DAYLIGHT
TZOFFSETFROM:+0000
TZOFFSETTO:+0100
TZNAME:BST
DTSTART:20250330T010000
END:DAYLIGHT
BEGIN:STANDARD
TZOFFSETFROM:+0100
TZOFFSETTO:+0000
TZNAME:GMT
DTSTART:20251026T010000
END:STANDARD
END:VTIMEZONE
BEGIN:VEVENT
DTSTART;TZID=Europe/London:20240717T173000
DTEND;TZID=Europe/London:20240717T190000
DTSTAMP:20260422T005416
CREATED:20240611T161318Z
LAST-MODIFIED:20240709T170002Z
UID:10015122-1721237400-1721242800@dev.prsc.org.uk
SUMMARY:Music in Movement
DESCRIPTION:“Music in Movement” is a workshop aimed to find & voice creatively a shared narrative within a community or group of people. It’s open to all levels of artistic expression (music and physical movement). \nIt aims to stimulate a shared creative process through games and technique\, offering the participants a safe space and the freedom to express themselves creatively. \nLuca Macchi created “Music in Movement” to remove fear and pressure that anyone feels\, when dealing with creative self-expression. He will guide you to an exploration of sound\, music and movement from his experience as a musician\, songwriter\, singing teacher and movement explorer. \nNo previous experience required. Just bring yourself and some comfy clothes for some light movement. \nAny questions? Reach Luca on email hidden; JavaScript is required or 07951736682
URL:https://dev.prsc.org.uk/event/music-in-movement-2/
LOCATION:SPACE at PRSC\, 17-25 Jamaica St\, Bristol\, BS2 8JW\, United Kingdom
CATEGORIES:Dance,Education,Movement,Music,Workshop
ATTACH;FMTTYPE=image/jpeg:https://dev.prsc.org.uk/wp-content/uploads/2024/06/music-in-movement.jpg
ORGANIZER;CN="Luca Macchi":MAILTO:lucamacchimusic@gmail.com
GEO:51.462367098231;-2.5910394455531
X-APPLE-STRUCTURED-LOCATION;VALUE=URI;X-ADDRESS=SPACE at PRSC 17-25 Jamaica St Bristol BS2 8JW United Kingdom;X-APPLE-RADIUS=500;X-TITLE=17-25 Jamaica St:geo:-2.5910394455531,51.462367098231
END:VEVENT
BEGIN:VEVENT
DTSTART;TZID=Europe/London:20240710T173000
DTEND;TZID=Europe/London:20240710T190000
DTSTAMP:20260422T005416
CREATED:20240611T161318Z
LAST-MODIFIED:20240709T165907Z
UID:10015120-1720632600-1720638000@dev.prsc.org.uk
SUMMARY:Music in Movement
DESCRIPTION:“Music in Movement” is a workshop aimed to find & voice creatively a shared narrative within a community or group of people. It’s open to all levels of artistic expression (music and physical movement). \nIt aims to stimulate a shared creative process through games and technique\, offering the participants a safe space and the freedom to express themselves creatively. \nLuca Macchi created “Music in Movement” to remove fear and pressure that anyone feels\, when dealing with creative self-expression. He will guide you to an exploration of sound\, music and movement from his experience as a musician\, songwriter\, singing teacher and movement explorer. \nNo previous experience required. Just bring yourself and some comfy clothes for some light movement. \nAny questions? Reach Luca on email hidden; JavaScript is required or 07951736682
URL:https://dev.prsc.org.uk/event/music-in-movement/
LOCATION:SPACE at PRSC\, 17-25 Jamaica St\, Bristol\, BS2 8JW\, United Kingdom
CATEGORIES:Dance,Education,Movement,Music,Workshop
ATTACH;FMTTYPE=image/jpeg:https://dev.prsc.org.uk/wp-content/uploads/2024/06/music-in-movement.jpg
ORGANIZER;CN="Luca Macchi":MAILTO:lucamacchimusic@gmail.com
GEO:51.462367098231;-2.5910394455531
X-APPLE-STRUCTURED-LOCATION;VALUE=URI;X-ADDRESS=SPACE at PRSC 17-25 Jamaica St Bristol BS2 8JW United Kingdom;X-APPLE-RADIUS=500;X-TITLE=17-25 Jamaica St:geo:-2.5910394455531,51.462367098231
END:VEVENT
END:VCALENDAR