BEGIN:VCALENDAR
VERSION:2.0
PRODID:-//PEOPLES REPUBLIC OF STOKES CROFT - ECPv6.15.20//NONSGML v1.0//EN
CALSCALE:GREGORIAN
METHOD:PUBLISH
X-WR-CALNAME:PEOPLES REPUBLIC OF STOKES CROFT
X-ORIGINAL-URL:https://dev.prsc.org.uk
X-WR-CALDESC:Events for PEOPLES REPUBLIC OF STOKES CROFT
REFRESH-INTERVAL;VALUE=DURATION:PT1H
X-Robots-Tag:noindex
X-PUBLISHED-TTL:PT1H
BEGIN:VTIMEZONE
TZID:Europe/London
BEGIN:DAYLIGHT
TZOFFSETFROM:+0000
TZOFFSETTO:+0100
TZNAME:BST
DTSTART:20180325T010000
END:DAYLIGHT
BEGIN:STANDARD
TZOFFSETFROM:+0100
TZOFFSETTO:+0000
TZNAME:GMT
DTSTART:20181028T010000
END:STANDARD
BEGIN:DAYLIGHT
TZOFFSETFROM:+0000
TZOFFSETTO:+0100
TZNAME:BST
DTSTART:20190331T010000
END:DAYLIGHT
BEGIN:STANDARD
TZOFFSETFROM:+0100
TZOFFSETTO:+0000
TZNAME:GMT
DTSTART:20191027T010000
END:STANDARD
BEGIN:DAYLIGHT
TZOFFSETFROM:+0000
TZOFFSETTO:+0100
TZNAME:BST
DTSTART:20200329T010000
END:DAYLIGHT
BEGIN:STANDARD
TZOFFSETFROM:+0100
TZOFFSETTO:+0000
TZNAME:GMT
DTSTART:20201025T010000
END:STANDARD
END:VTIMEZONE
BEGIN:VEVENT
DTSTART;TZID=Europe/London:20190309T200000
DTEND;TZID=Europe/London:20190309T220000
DTSTAMP:20260421T215245
CREATED:20190219T125242Z
LAST-MODIFIED:20190221T125046Z
UID:10013886-1552161600-1552168800@dev.prsc.org.uk
SUMMARY:Parents Basement: Helen & Riordan DJ
DESCRIPTION:Parent’s Basement is Bristol’s home for state-side style longform improv\, featuring some of the funniest improvisers the South West has to offer. Our house team perform sketches directly inspired from stories told by a guest monologist\, then in the second half\, a fully improvised theatrical comedy will be performed by a special guest troupe. \nThis month we have Chortle’s Lad of the Year Riordan DJ kicking the doors off the show with the highest of artforms; Stand-up Comedy. Our house team WAITING FOR BECKY will then get a monologue & get to work improvising the best sketches imaginable to the human mind. \nAfter the break we have our headliners; the ubermensch known only as HELEN! They won our summer tournament\, have started their own monthly night and are the only improv team I know who provide a home delivery service. \n“Helen’s improvisational set reminded me of a powerful methadone withdrawal dream\, where I visited each of my worst enemies and kissed them gently on the forehead. Twelve Stars.” – Eric Cantona for Improvisational Quarterly (December 2018) \nAll of this for only £5 on the door!
URL:https://dev.prsc.org.uk/event/parents-basement-helen-riordan-dj/
LOCATION:SPACE at PRSC\, 17-25 Jamaica St\, Bristol\, BS2 8JW\, United Kingdom
CATEGORIES:Comedy,Performance
ATTACH;FMTTYPE=image/jpeg:https://dev.prsc.org.uk/wp-content/uploads/2019/02/parents_basement.jpg
GEO:51.462367098231;-2.5910394455531
X-APPLE-STRUCTURED-LOCATION;VALUE=URI;X-ADDRESS=SPACE at PRSC 17-25 Jamaica St Bristol BS2 8JW United Kingdom;X-APPLE-RADIUS=500;X-TITLE=17-25 Jamaica St:geo:-2.5910394455531,51.462367098231
END:VEVENT
END:VCALENDAR