BEGIN:VCALENDAR
VERSION:2.0
PRODID:-//PEOPLES REPUBLIC OF STOKES CROFT - ECPv6.15.20//NONSGML v1.0//EN
CALSCALE:GREGORIAN
METHOD:PUBLISH
X-ORIGINAL-URL:https://dev.prsc.org.uk
X-WR-CALDESC:Events for PEOPLES REPUBLIC OF STOKES CROFT
REFRESH-INTERVAL;VALUE=DURATION:PT1H
X-Robots-Tag:noindex
X-PUBLISHED-TTL:PT1H
BEGIN:VTIMEZONE
TZID:Europe/London
BEGIN:DAYLIGHT
TZOFFSETFROM:+0000
TZOFFSETTO:+0100
TZNAME:BST
DTSTART:20210328T010000
END:DAYLIGHT
BEGIN:STANDARD
TZOFFSETFROM:+0100
TZOFFSETTO:+0000
TZNAME:GMT
DTSTART:20211031T010000
END:STANDARD
BEGIN:DAYLIGHT
TZOFFSETFROM:+0000
TZOFFSETTO:+0100
TZNAME:BST
DTSTART:20220327T010000
END:DAYLIGHT
BEGIN:STANDARD
TZOFFSETFROM:+0100
TZOFFSETTO:+0000
TZNAME:GMT
DTSTART:20221030T010000
END:STANDARD
BEGIN:DAYLIGHT
TZOFFSETFROM:+0000
TZOFFSETTO:+0100
TZNAME:BST
DTSTART:20230326T010000
END:DAYLIGHT
BEGIN:STANDARD
TZOFFSETFROM:+0100
TZOFFSETTO:+0000
TZNAME:GMT
DTSTART:20231029T010000
END:STANDARD
END:VTIMEZONE
BEGIN:VEVENT
DTSTART;TZID=Europe/London:20221206T183000
DTEND;TZID=Europe/London:20221206T200000
DTSTAMP:20260421T123256
CREATED:20210705T104858Z
LAST-MODIFIED:20250408T152143Z
UID:10014710-1670351400-1670356800@dev.prsc.org.uk
SUMMARY:Micro-poetry\, mini-zines!
DESCRIPTION:TicketsJoin Bristol poet rabbitfeet (aka phoebe) to create tiny books of poetry! Whether you want to write half-pint haikus or small sonnets\, this workshop will focus on no-rules micro-poetry\, tucked between the pages of an eight-page\, easy to make zine. Accessible and fun\, the goal of this workshop is to encourage freestyle creativity on a small-scale\, and will be super beginner-friendly! \nTickets are £5\, but no-one will be turned away through lack of funds – contact email hidden; JavaScript is required for a subsidised place. \n\nPeople's Art Fair: Friday 2 December - Sunday 11 December 2022\nThe People's Art Fair encompasses a group exhibition\, performances\, creative workshops & activities\, and a makers market! Open to artists\, makers\, photographers\, painters\, sculptors and creatives of all shapes and flavours\, the People's Art Fair acts as a celebration of culture and expressive art. \n\nMost of the artworks are available to buy\, along with prints\, cards\, badges\, stickers and other smaller bits\, and the bar will be open for soft drinks\, hot drinks and locally sourced beer\, cider & wine.\n\nPeople’s Art Fair: Opening NightJoin us for the opening night of the People's Art Fair - be among the first to see all the amazing artwork on offer\, access your inner artist with some fun & easy creative activities\, and have a drink while you browse & schmooze. Thursday 1 December\, 2022 @ 18:00 - 21:00People’s Art Fair: DecemberOpen 12:00 - 18:00 daily\, the People’s Art Fair is a collaborative group exhibition devised and hosted by the PRSC and open to all artists. See People's Art Fair for a full list of happenings. Friday 2 December\, 2022 @ 12:00 - Sunday 11 December\, 2022 @ 18:00The People’s Comedy: Xmas special\, bourgeoisie killed JesusA night of political\, social and cultural comedy featuring some of the most exciting grassroots comedians of Bristol and beyond - and the acts ACTUALLY get paid. Come join the revolution! Friday 2 December\, 2022 @ 19:00 - 22:30Festive Makers’ MarketCome on down to our festive makers' market! Part of the People's Art Fair. Saturday 3 December\, 2022 @ 12:00 - 18:00Planet Repairs & the ArtsWorkshop exploring what role the arts can play in creating Planet Repairs\, and sharing practical steps for working in solidarity with communities who are driving this change. Part of the People's Art Fair. Sunday 4 December\, 2022 @ 18:00People’s Art Club & Community Drop-in – Drawing Skills with KeithCome for a cup of tea\, make some art\, help distribute Dope Magazine\, sleeping bags and tents\, have a chat. Tuesday 6 December\, 2022 @ 14:00 - 16:00Micro-poetry\, mini-zines!Whether you want to write half-pint haikus or small sonnets\, this workshop will focus on no-rules micro-poetry\, tucked between the pages of an eight-page\, easy to make zine. Part of the People's Art Fair. Tuesday 6 December\, 2022 @ 18:30 - 20:00The People’s PoetryAn open mic poetry & spoken word night\, hosted by activist and poet\, Book of Lilith. Part of the People's Art Fair. Wednesday 7 December\, 2022 @ 19:00 - 22:30People’s Art Fair: Late Opening with music from BrainbeauA special late opening of the People's Art Fair - join us for a bit of Christmas shopping\, some mulled cider & the lovely sounds of Brainbeau! Thursday 8 December\, 2022 @ 18:00 - 21:00CANCELLED: Radical Screen Printing Taster WorkshopScreen print your very own custom radical tote bag! Part of the People's Art Fair. Saturday 10 December\, 2022 @ 10:00 - 12:00The People’s Jam SessionA music jam session hosted by the Immigrant Swing Family. Part of the People's Art Fair. Saturday 10 December\, 2022 @ 19:00 - 22:00CANCELLED: China Decorating WorkshopSpend a relaxing afternoon creating a uniquely decorated piece of fine English bone china! Choose your piece and collage as many images and as much text as you like from our unrivaled collection of historic and new water-slide ceramic transfers. Choose from two sessions: 1 - 3pm or 3.15 - 5.15pm. Sunday 11 December\, 2022 @ 13:00 - 17:30
URL:https://dev.prsc.org.uk/event/micro-poetry-mini-zines/
LOCATION:SPACE at PRSC\, 17-25 Jamaica St\, Bristol\, BS2 8JW\, United Kingdom
CATEGORIES:Activity,People's Art Fair,Poetry,The People's Poetry,Workshop
ATTACH;FMTTYPE=image/jpeg:https://dev.prsc.org.uk/wp-content/uploads/2021/07/micro-poetry-mini-zines.jpg
GEO:51.462367098231;-2.5910394455531
X-APPLE-STRUCTURED-LOCATION;VALUE=URI;X-ADDRESS=SPACE at PRSC 17-25 Jamaica St Bristol BS2 8JW United Kingdom;X-APPLE-RADIUS=500;X-TITLE=17-25 Jamaica St:geo:-2.5910394455531,51.462367098231
END:VEVENT
END:VCALENDAR