BEGIN:VCALENDAR
VERSION:2.0
PRODID:-//PEOPLES REPUBLIC OF STOKES CROFT - ECPv6.15.20//NONSGML v1.0//EN
CALSCALE:GREGORIAN
METHOD:PUBLISH
X-WR-CALNAME:PEOPLES REPUBLIC OF STOKES CROFT
X-ORIGINAL-URL:https://dev.prsc.org.uk
X-WR-CALDESC:Events for PEOPLES REPUBLIC OF STOKES CROFT
REFRESH-INTERVAL;VALUE=DURATION:PT1H
X-Robots-Tag:noindex
X-PUBLISHED-TTL:PT1H
BEGIN:VTIMEZONE
TZID:Europe/London
BEGIN:DAYLIGHT
TZOFFSETFROM:+0000
TZOFFSETTO:+0100
TZNAME:BST
DTSTART:20210328T010000
END:DAYLIGHT
BEGIN:STANDARD
TZOFFSETFROM:+0100
TZOFFSETTO:+0000
TZNAME:GMT
DTSTART:20211031T010000
END:STANDARD
BEGIN:DAYLIGHT
TZOFFSETFROM:+0000
TZOFFSETTO:+0100
TZNAME:BST
DTSTART:20220327T010000
END:DAYLIGHT
BEGIN:STANDARD
TZOFFSETFROM:+0100
TZOFFSETTO:+0000
TZNAME:GMT
DTSTART:20221030T010000
END:STANDARD
BEGIN:DAYLIGHT
TZOFFSETFROM:+0000
TZOFFSETTO:+0100
TZNAME:BST
DTSTART:20230326T010000
END:DAYLIGHT
BEGIN:STANDARD
TZOFFSETFROM:+0100
TZOFFSETTO:+0000
TZNAME:GMT
DTSTART:20231029T010000
END:STANDARD
END:VTIMEZONE
BEGIN:VEVENT
DTSTART;TZID=Europe/London:20220326T180000
DTEND;TZID=Europe/London:20220326T200000
DTSTAMP:20260421T184737
CREATED:20220310T152947Z
LAST-MODIFIED:20220310T153143Z
UID:10014781-1648317600-1648324800@dev.prsc.org.uk
SUMMARY:Change. Why and How the future of working for Change is going to be different to be effective.
DESCRIPTION:We are viewing an item that answers the questions regarding working for change in the current world situation\, its issues\, and for our future. The second half of each session is scheduled for your individual inputs\, views\, and questions. Those shall also be answered. This is something new and up-to-date to take away. Feel encouraged to take a look\, even if you have not been engaged yet with campaigns\, protests\, related projects\, or activities. It’s the future of all of us. It’s your future. \nThe sessions are free. Feel welcomed. \nBooking: The number of attendees at PRSC as a venue and at the sessions is limited to 25.\nPlease book yourself in with an email to email hidden; JavaScript is required with subject: Change\, Session.
URL:https://dev.prsc.org.uk/event/change-why-and-how-the-future-of-working-for-change-is-going-to-be-different-to-be-effective-2/
LOCATION:SPACE at PRSC\, 17-25 Jamaica St\, Bristol\, BS2 8JW\, United Kingdom
CATEGORIES:Discussion,Meeting,Politics,Protest
ATTACH;FMTTYPE=image/jpeg:https://dev.prsc.org.uk/wp-content/uploads/2022/03/Inkedcreativemediagroupphoto_LI-2.jpg
ORGANIZER;CN="Ryan June":MAILTO:videosandarticles@gmail.com
GEO:51.462367098231;-2.5910394455531
X-APPLE-STRUCTURED-LOCATION;VALUE=URI;X-ADDRESS=SPACE at PRSC 17-25 Jamaica St Bristol BS2 8JW United Kingdom;X-APPLE-RADIUS=500;X-TITLE=17-25 Jamaica St:geo:-2.5910394455531,51.462367098231
END:VEVENT
BEGIN:VEVENT
DTSTART;TZID=Europe/London:20220319T160000
DTEND;TZID=Europe/London:20220319T180000
DTSTAMP:20260421T184737
CREATED:20220310T152947Z
LAST-MODIFIED:20220310T152947Z
UID:10014780-1647705600-1647712800@dev.prsc.org.uk
SUMMARY:Change. Why and How the future of working for Change is going to be different to be effective.
DESCRIPTION:We are viewing an item that answers the questions regarding working for change in the current world situation\, its issues\, and for our future. The second half of each session is scheduled for your individual inputs\, views\, and questions. Those shall also be answered. This is something new and up-to-date to take away. Feel encouraged to take a look\, even if you have not been engaged yet with campaigns\, protests\, related projects\, or activities. It’s the future of all of us. It’s your future. \nThe sessions are free. Feel welcomed. \nBooking: The number of attendees at PRSC as a venue and at the sessions is limited to 25.\nPlease book yourself in with an email to email hidden; JavaScript is required with subject: Change\, Session.
URL:https://dev.prsc.org.uk/event/change-why-and-how-the-future-of-working-for-change-is-going-to-be-different-to-be-effective/
LOCATION:SPACE at PRSC\, 17-25 Jamaica St\, Bristol\, BS2 8JW\, United Kingdom
CATEGORIES:Discussion,Meeting,Politics,Protest
ATTACH;FMTTYPE=image/jpeg:https://dev.prsc.org.uk/wp-content/uploads/2022/03/Inkedcreativemediagroupphoto_LI-2.jpg
ORGANIZER;CN="Ryan June":MAILTO:videosandarticles@gmail.com
GEO:51.462367098231;-2.5910394455531
X-APPLE-STRUCTURED-LOCATION;VALUE=URI;X-ADDRESS=SPACE at PRSC 17-25 Jamaica St Bristol BS2 8JW United Kingdom;X-APPLE-RADIUS=500;X-TITLE=17-25 Jamaica St:geo:-2.5910394455531,51.462367098231
END:VEVENT
END:VCALENDAR