BEGIN:VCALENDAR
VERSION:2.0
PRODID:-//PEOPLES REPUBLIC OF STOKES CROFT - ECPv6.15.20//NONSGML v1.0//EN
CALSCALE:GREGORIAN
METHOD:PUBLISH
X-ORIGINAL-URL:https://dev.prsc.org.uk
X-WR-CALDESC:Events for PEOPLES REPUBLIC OF STOKES CROFT
REFRESH-INTERVAL;VALUE=DURATION:PT1H
X-Robots-Tag:noindex
X-PUBLISHED-TTL:PT1H
BEGIN:VTIMEZONE
TZID:Europe/London
BEGIN:DAYLIGHT
TZOFFSETFROM:+0000
TZOFFSETTO:+0100
TZNAME:BST
DTSTART:20220327T010000
END:DAYLIGHT
BEGIN:STANDARD
TZOFFSETFROM:+0100
TZOFFSETTO:+0000
TZNAME:GMT
DTSTART:20221030T010000
END:STANDARD
BEGIN:DAYLIGHT
TZOFFSETFROM:+0000
TZOFFSETTO:+0100
TZNAME:BST
DTSTART:20230326T010000
END:DAYLIGHT
BEGIN:STANDARD
TZOFFSETFROM:+0100
TZOFFSETTO:+0000
TZNAME:GMT
DTSTART:20231029T010000
END:STANDARD
BEGIN:DAYLIGHT
TZOFFSETFROM:+0000
TZOFFSETTO:+0100
TZNAME:BST
DTSTART:20240331T010000
END:DAYLIGHT
BEGIN:STANDARD
TZOFFSETFROM:+0100
TZOFFSETTO:+0000
TZNAME:GMT
DTSTART:20241027T010000
END:STANDARD
END:VTIMEZONE
BEGIN:VEVENT
DTSTART;TZID=Europe/London:20231015T120000
DTEND;TZID=Europe/London:20231015T150000
DTSTAMP:20260421T152853
CREATED:20230112T174441Z
LAST-MODIFIED:20230927T165447Z
UID:10015019-1697371200-1697382000@dev.prsc.org.uk
SUMMARY:BODIED CANVAS - A women's circle through playful channels of expression
DESCRIPTION:Have you ever wanted to compliment a stranger? Have you ever taken inspiration from other women? Have you ever been an inspiration to other women? Do you want to break the personal barrier you hold for yourself and inspire others? Bodied Canvas aims to smash those barriers with yourself and to connect with others. \nBodied Canvas will collectively discuss how we play down our achievements\, skills\, expertise\, what we like about ourselves\, our personality or even our bodies to stay humble. Together we will undress our emotional layers to bring some clarity to the language we use to undermine what we have to say and taking space. \nBody painting takes place over the second half of the workshop where we will get to decorate each other as a sign of empowerment\, admiration and camaraderie. \nWe adorn ourselves not because we hide but because we want to be seen\, to own our skin and wear it proudly. \nThe act of women beautifying one another is an ancestral ceremony that takes different shapes in every culture\, from henna tattoos\, cornrows braids and bantu knots\, Huadian make-up in China or piercing traditions. \nBy decorating each other\, we empower other women sharing the gift of our unique creative expression through paint. We influence each other\, support one another and grow stronger together in often invisible ways. Through paint we will leave physical marks of our commitment to have each other’s backs. We are all unique and different and our journeys are too but we have all gone through similar experiences and we use that to empower each other and with it ourselves. \nWHAT TO EXPECT : In this workshop we will practice codes of assertiveness as part of the process of supporting one another. We will do body and creative warm up before decorating each other. The workshop includes snacks and hot beverages followed by integration and a relaxation ceremony. You will not be expected to allow all of your body to be painted or for every participant to do so. This workshop also encourages us to remove guilt practicing assertiveness claiming ownership of our bodies and sharing whatever we want whenever we want to. \nWe use water based body paint\, we will test it on your skin upon arrival. \nParticipants are expected to bring a towel for drying and a dressing gown/kimono/big shirt. \n*Open to all women: cis\, trans and non-binary resonating with the gender identity of woman. If you have any queries regarding our inclusion policy\, please don’t hesitate to ask. \nWhile we do our best to create a safe and inclusive space\, it is each individual’s responsibility to look after their needs and boundaries. Please raise any concerns you may have in advance to improve the experience and accommodate you. \nPlease contact us if you are not able to afford the ticket and need a reduced fee\, we want you to join. \nPlease contact us on email hidden; JavaScript is required
URL:https://dev.prsc.org.uk/event/bodiedcanvas/
LOCATION:SPACE at PRSC\, 17-25 Jamaica St\, Bristol\, BS2 8JW\, United Kingdom
CATEGORIES:Activity,LGBTQ+,Paint Jam,Workshop
ATTACH;FMTTYPE=image/png:https://dev.prsc.org.uk/wp-content/uploads/2023/01/Beige-Green-Minimalist-Art-Exhibition-Poster-5.png
ORGANIZER;CN="Silvia Temprado":MAILTO:waggishglint@gmail.com
GEO:51.462367098231;-2.5910394455531
X-APPLE-STRUCTURED-LOCATION;VALUE=URI;X-ADDRESS=SPACE at PRSC 17-25 Jamaica St Bristol BS2 8JW United Kingdom;X-APPLE-RADIUS=500;X-TITLE=17-25 Jamaica St:geo:-2.5910394455531,51.462367098231
END:VEVENT
END:VCALENDAR