BEGIN:VCALENDAR
VERSION:2.0
PRODID:-//PEOPLES REPUBLIC OF STOKES CROFT - ECPv6.15.20//NONSGML v1.0//EN
CALSCALE:GREGORIAN
METHOD:PUBLISH
X-ORIGINAL-URL:https://dev.prsc.org.uk
X-WR-CALDESC:Events for PEOPLES REPUBLIC OF STOKES CROFT
REFRESH-INTERVAL;VALUE=DURATION:PT1H
X-Robots-Tag:noindex
X-PUBLISHED-TTL:PT1H
BEGIN:VTIMEZONE
TZID:Europe/London
BEGIN:DAYLIGHT
TZOFFSETFROM:+0000
TZOFFSETTO:+0100
TZNAME:BST
DTSTART:20220327T010000
END:DAYLIGHT
BEGIN:STANDARD
TZOFFSETFROM:+0100
TZOFFSETTO:+0000
TZNAME:GMT
DTSTART:20221030T010000
END:STANDARD
BEGIN:DAYLIGHT
TZOFFSETFROM:+0000
TZOFFSETTO:+0100
TZNAME:BST
DTSTART:20230326T010000
END:DAYLIGHT
BEGIN:STANDARD
TZOFFSETFROM:+0100
TZOFFSETTO:+0000
TZNAME:GMT
DTSTART:20231029T010000
END:STANDARD
BEGIN:DAYLIGHT
TZOFFSETFROM:+0000
TZOFFSETTO:+0100
TZNAME:BST
DTSTART:20240331T010000
END:DAYLIGHT
BEGIN:STANDARD
TZOFFSETFROM:+0100
TZOFFSETTO:+0000
TZNAME:GMT
DTSTART:20241027T010000
END:STANDARD
END:VTIMEZONE
BEGIN:VEVENT
DTSTART;TZID=Europe/London:20230601T183000
DTEND;TZID=Europe/London:20230601T193000
DTSTAMP:20260421T213623
CREATED:20230525T112441Z
LAST-MODIFIED:20230525T112441Z
UID:10014494-1685644200-1685647800@dev.prsc.org.uk
SUMMARY:Societree Monthly Meeting
DESCRIPTION:Welcome to our Societree Meetup group! \nSocietree is a platform with a difference. Totally transparent\, directly democratic\, and completely free to use\, societree is a knowledge- and skill-sharing platform built on the principle that social exchange has real value. Our team and platform volunteers have no strict working hours\, choosing when and how they work\, and each has an equal opportunity to contribute to the evolution of the platform. To find out more about the platform itself visit our website: https://societree.github.io \nOur Meetup group is dedicated to advancing societree and supporting our mission of creating an inclusive\, equitable and democratic platform where volunteers can share their skills and knowledge. We believe in the values of workers’ empowerment and community ownership and operate on principles of participatory governance and transparency. Our ultimate goal is to create a platform that is fully run by volunteers who share our vision. Come to our Meetup and help to make this happen! We welcome literally everyone.
URL:https://dev.prsc.org.uk/event/societree-monthly-meeting/
LOCATION:SPACE at PRSC\, 17-25 Jamaica St\, Bristol\, BS2 8JW\, United Kingdom
CATEGORIES:Community Drop-in,Community Meeting,Discussion,Education,Meeting,Volunteer
ATTACH;FMTTYPE=image/png:https://dev.prsc.org.uk/wp-content/uploads/2023/05/societry_landing.png
GEO:51.462367098231;-2.5910394455531
X-APPLE-STRUCTURED-LOCATION;VALUE=URI;X-ADDRESS=SPACE at PRSC 17-25 Jamaica St Bristol BS2 8JW United Kingdom;X-APPLE-RADIUS=500;X-TITLE=17-25 Jamaica St:geo:-2.5910394455531,51.462367098231
END:VEVENT
END:VCALENDAR