BEGIN:VCALENDAR
VERSION:2.0
PRODID:-//PEOPLES REPUBLIC OF STOKES CROFT - ECPv6.15.20//NONSGML v1.0//EN
CALSCALE:GREGORIAN
METHOD:PUBLISH
X-WR-CALNAME:PEOPLES REPUBLIC OF STOKES CROFT
X-ORIGINAL-URL:https://dev.prsc.org.uk
X-WR-CALDESC:Events for PEOPLES REPUBLIC OF STOKES CROFT
REFRESH-INTERVAL;VALUE=DURATION:PT1H
X-Robots-Tag:noindex
X-PUBLISHED-TTL:PT1H
BEGIN:VTIMEZONE
TZID:Europe/London
BEGIN:DAYLIGHT
TZOFFSETFROM:+0000
TZOFFSETTO:+0100
TZNAME:BST
DTSTART:20210328T010000
END:DAYLIGHT
BEGIN:STANDARD
TZOFFSETFROM:+0100
TZOFFSETTO:+0000
TZNAME:GMT
DTSTART:20211031T010000
END:STANDARD
BEGIN:DAYLIGHT
TZOFFSETFROM:+0000
TZOFFSETTO:+0100
TZNAME:BST
DTSTART:20220327T010000
END:DAYLIGHT
BEGIN:STANDARD
TZOFFSETFROM:+0100
TZOFFSETTO:+0000
TZNAME:GMT
DTSTART:20221030T010000
END:STANDARD
BEGIN:DAYLIGHT
TZOFFSETFROM:+0000
TZOFFSETTO:+0100
TZNAME:BST
DTSTART:20230326T010000
END:DAYLIGHT
BEGIN:STANDARD
TZOFFSETFROM:+0100
TZOFFSETTO:+0000
TZNAME:GMT
DTSTART:20231029T010000
END:STANDARD
END:VTIMEZONE
BEGIN:VEVENT
DTSTART;TZID=Europe/London:20221119T170000
DTEND;TZID=Europe/London:20221120T190000
DTSTAMP:20260422T190640
CREATED:20220203T115841Z
LAST-MODIFIED:20221018T121257Z
UID:10014381-1668877200-1668970800@dev.prsc.org.uk
SUMMARY:Upside Sound x Sound minded & Kyber Drop
DESCRIPTION:Sat 19 Nov\, 17:00 – 23:00 — circus\, music\, performers\, workshops\, art all evening — £8\nSun 20 Nov\, 13:00 – 19:00 — art exhibition & Kyber Drop sound all day — Donations OTD\n\nThe Sound minded and Kyber Drop community have teamed up with Upside Sound to showcase a circus themed weekend\, with unique and immersive art\, obscure performances and of course sound suppled by The Kyber Drop – bringing their signature blend of Roots\, Dub\, French style Dub-trance\, Breaks\, Balkan and of course some serious Jungle shelling.\n\n All profits donated to the Refugee Council \n\nBar and refreshments available.
URL:https://dev.prsc.org.uk/event/sound-minded-2/
LOCATION:SPACE at PRSC\, 17-25 Jamaica St\, Bristol\, BS2 8JW\, United Kingdom
CATEGORIES:Art Exhibition,Circus,Dance,Exhibition,Fundraiser,Music,Performance,Variety Show,Workshop
ATTACH;FMTTYPE=image/jpeg:https://dev.prsc.org.uk/wp-content/uploads/2022/02/soundminded2.jpg
GEO:51.462367098231;-2.5910394455531
X-APPLE-STRUCTURED-LOCATION;VALUE=URI;X-ADDRESS=SPACE at PRSC 17-25 Jamaica St Bristol BS2 8JW United Kingdom;X-APPLE-RADIUS=500;X-TITLE=17-25 Jamaica St:geo:-2.5910394455531,51.462367098231
END:VEVENT
BEGIN:VEVENT
DTSTART;TZID=Europe/London:20220312T150000
DTEND;TZID=Europe/London:20220312T230000
DTSTAMP:20260422T190640
CREATED:20220203T115841Z
LAST-MODIFIED:20220215T174544Z
UID:10014379-1647097200-1647126000@dev.prsc.org.uk
SUMMARY:Sound Minded
DESCRIPTION:// an exhibition in aid of mental health\, showcasing art inspired by music\, revolution and unity //\n\n\n‘Sound minded’ is a collective of young creatives who believe in the freedom of expression through art and sound. \nOur exhibition will explore multiple styles of art and music derived from some of Bristol’s creative minds.\nThere will be music all day from the Kyber crew and other DJs to be announced later.\n\n\n– Powered by Kyberdrop sound –\n\n Donations OTD are donated to ‘Off the record’ – a Bristol based charity supporting young peoples mental health. \n\nBar and refreshments available.
URL:https://dev.prsc.org.uk/event/sound-minded/
LOCATION:SPACE at PRSC\, 17-25 Jamaica St\, Bristol\, BS2 8JW\, United Kingdom
CATEGORIES:Art Exhibition,Exhibition,Music
ATTACH;FMTTYPE=image/jpeg:https://dev.prsc.org.uk/wp-content/uploads/2022/02/soundmindedwide.jpg
GEO:51.462367098231;-2.5910394455531
X-APPLE-STRUCTURED-LOCATION;VALUE=URI;X-ADDRESS=SPACE at PRSC 17-25 Jamaica St Bristol BS2 8JW United Kingdom;X-APPLE-RADIUS=500;X-TITLE=17-25 Jamaica St:geo:-2.5910394455531,51.462367098231
END:VEVENT
END:VCALENDAR