BEGIN:VCALENDAR
VERSION:2.0
PRODID:-//PEOPLES REPUBLIC OF STOKES CROFT - ECPv6.15.20//NONSGML v1.0//EN
CALSCALE:GREGORIAN
METHOD:PUBLISH
X-WR-CALNAME:PEOPLES REPUBLIC OF STOKES CROFT
X-ORIGINAL-URL:https://dev.prsc.org.uk
X-WR-CALDESC:Events for PEOPLES REPUBLIC OF STOKES CROFT
REFRESH-INTERVAL;VALUE=DURATION:PT1H
X-Robots-Tag:noindex
X-PUBLISHED-TTL:PT1H
BEGIN:VTIMEZONE
TZID:Europe/London
BEGIN:DAYLIGHT
TZOFFSETFROM:+0000
TZOFFSETTO:+0100
TZNAME:BST
DTSTART:20210328T010000
END:DAYLIGHT
BEGIN:STANDARD
TZOFFSETFROM:+0100
TZOFFSETTO:+0000
TZNAME:GMT
DTSTART:20211031T010000
END:STANDARD
BEGIN:DAYLIGHT
TZOFFSETFROM:+0000
TZOFFSETTO:+0100
TZNAME:BST
DTSTART:20220327T010000
END:DAYLIGHT
BEGIN:STANDARD
TZOFFSETFROM:+0100
TZOFFSETTO:+0000
TZNAME:GMT
DTSTART:20221030T010000
END:STANDARD
BEGIN:DAYLIGHT
TZOFFSETFROM:+0000
TZOFFSETTO:+0100
TZNAME:BST
DTSTART:20230326T010000
END:DAYLIGHT
BEGIN:STANDARD
TZOFFSETFROM:+0100
TZOFFSETTO:+0000
TZNAME:GMT
DTSTART:20231029T010000
END:STANDARD
END:VTIMEZONE
BEGIN:VEVENT
DTSTART;TZID=Europe/London:20220602T180000
DTEND;TZID=Europe/London:20220602T200000
DTSTAMP:20260423T143007
CREATED:20220203T180215Z
LAST-MODIFIED:20220517T142215Z
UID:10014385-1654192800-1654200000@dev.prsc.org.uk
SUMMARY:The Mantra Experience
DESCRIPTION:TicketsExperience sacred sound through meditation\, music and wisdom followed by a world-class plant based feast! \nCome along for the second Mantra Meditation event hosted by Krishna Bristol in 2022. \nBhakti-yoga refers to spiritual practices designed to bring one to devotional spiritual consciousness. It’s a way of connecting the soul with its Divine source. \nExperience a rich\, immersive evening of mantra meditation (kirtan) \, music with traditional instruments \, interactive spiritual wisdom\, authentic connection\, and a karma-free plant-based FEAST with dessert! \n£10 Student with valid student card / £12 Standard including plant based feast
URL:https://dev.prsc.org.uk/event/the-mantra-experience-2/
LOCATION:SPACE at PRSC\, 17-25 Jamaica St\, Bristol\, BS2 8JW\, United Kingdom
CATEGORIES:Activity,Meditation,Music,Yoga
ATTACH;FMTTYPE=image/jpeg:https://dev.prsc.org.uk/wp-content/uploads/2022/02/mantra-experience-may.jpg
GEO:51.462367098231;-2.5910394455531
X-APPLE-STRUCTURED-LOCATION;VALUE=URI;X-ADDRESS=SPACE at PRSC 17-25 Jamaica St Bristol BS2 8JW United Kingdom;X-APPLE-RADIUS=500;X-TITLE=17-25 Jamaica St:geo:-2.5910394455531,51.462367098231
END:VEVENT
BEGIN:VEVENT
DTSTART;TZID=Europe/London:20220505T180000
DTEND;TZID=Europe/London:20220505T200000
DTSTAMP:20260423T143007
CREATED:20220203T180215Z
LAST-MODIFIED:20220427T102223Z
UID:10014384-1651773600-1651780800@dev.prsc.org.uk
SUMMARY:The Mantra Experience
DESCRIPTION:Book Tickets\nExperience sacred sound through meditation\, music and wisdom followed by a world-class plant based feast! \nCome along for the first Mantra Meditation event hosted by Krishna Bristol in 2022. \nBhakti-yoga refers to spiritual practices designed to bring one to devotional spiritual consciousness. It’s a way of connecting the soul with its Divine source. \nExperience a rich\, immersive evening of mantra meditation (kirtan) \, music with traditional instruments \, interactive spiritual wisdom\, authentic connection\, and a karma-free plant-based FEAST with dessert! \n£10 Student with valid student card / £12 Standard including plant based feast
URL:https://dev.prsc.org.uk/event/the-mantra-experience/
LOCATION:SPACE at PRSC\, 17-25 Jamaica St\, Bristol\, BS2 8JW\, United Kingdom
CATEGORIES:Activity,Meditation,Music,Yoga
ATTACH;FMTTYPE=image/jpeg:https://dev.prsc.org.uk/wp-content/uploads/2022/02/mantra-experience-may.jpg
GEO:51.462367098231;-2.5910394455531
X-APPLE-STRUCTURED-LOCATION;VALUE=URI;X-ADDRESS=SPACE at PRSC 17-25 Jamaica St Bristol BS2 8JW United Kingdom;X-APPLE-RADIUS=500;X-TITLE=17-25 Jamaica St:geo:-2.5910394455531,51.462367098231
END:VEVENT
END:VCALENDAR