BEGIN:VCALENDAR
VERSION:2.0
PRODID:-//PEOPLES REPUBLIC OF STOKES CROFT - ECPv6.15.20//NONSGML v1.0//EN
CALSCALE:GREGORIAN
METHOD:PUBLISH
X-ORIGINAL-URL:https://dev.prsc.org.uk
X-WR-CALDESC:Events for PEOPLES REPUBLIC OF STOKES CROFT
REFRESH-INTERVAL;VALUE=DURATION:PT1H
X-Robots-Tag:noindex
X-PUBLISHED-TTL:PT1H
BEGIN:VTIMEZONE
TZID:Europe/London
BEGIN:DAYLIGHT
TZOFFSETFROM:+0000
TZOFFSETTO:+0100
TZNAME:BST
DTSTART:20200329T010000
END:DAYLIGHT
BEGIN:STANDARD
TZOFFSETFROM:+0100
TZOFFSETTO:+0000
TZNAME:GMT
DTSTART:20201025T010000
END:STANDARD
BEGIN:DAYLIGHT
TZOFFSETFROM:+0000
TZOFFSETTO:+0100
TZNAME:BST
DTSTART:20210328T010000
END:DAYLIGHT
BEGIN:STANDARD
TZOFFSETFROM:+0100
TZOFFSETTO:+0000
TZNAME:GMT
DTSTART:20211031T010000
END:STANDARD
BEGIN:DAYLIGHT
TZOFFSETFROM:+0000
TZOFFSETTO:+0100
TZNAME:BST
DTSTART:20220327T010000
END:DAYLIGHT
BEGIN:STANDARD
TZOFFSETFROM:+0100
TZOFFSETTO:+0000
TZNAME:GMT
DTSTART:20221030T010000
END:STANDARD
END:VTIMEZONE
BEGIN:VEVENT
DTSTART;TZID=Europe/London:20211024T180000
DTEND;TZID=Europe/London:20211024T200000
DTSTAMP:20260422T234203
CREATED:20211007T105655Z
LAST-MODIFIED:20211007T111016Z
UID:10014358-1635098400-1635105600@dev.prsc.org.uk
SUMMARY:Rebel Walk: Tesco Riot
DESCRIPTION:Guided heritage walk exploring the history of the Stokes Croft Tesco Riot \nDubbed the ‘Tesco Riot’\, the disturbances of 2011 on Bristol’s Stokes Croft were part of a wave of national rioting across the country. But behind the headlines is a more complex story of exploring citizen solutions to social problems\, and attempts to establish alternative ways of living. The ‘Riots’ were a visceral response from a community that was and is on its own journey\, that finds itself overwhelmed by economic forces which threaten to squeeze out of existence the spirit of independence which has come to define the area. \nIn a period of growing inequality and a desperate housing and homelessness crisis\, the discussion around property\, the landed and the landless\, the disappearance of the commons\, and the privatisation of just about everything\, is the issue of our times. With the huge systemic inequalities that are created thereby\, the need for alternative thinking and action has never been so vital. \nLed by Chris Chalkley\, founder and director of People’s Republic Of Stokes Croft. Rebel Walk: Tesco Riot will explore the social and cultural experiment that some claim Stokes Croft to be\, and the role of PRSC in that experiment\, as we come to realise the necessity to find better solutions to the disaster that conventional economics has created. \nHow To Book and Key Information\nBooking in advance is essential – tickets are Pay What You Can starting from £3+ booking fee per person and you can book your tickets via the Trinity website. Please follow this link: https://www.trinitybristol.org.uk/activities/art-of-resistance/events/rebel-walk-tesco-riot \nThe walk will start and finish at Space at People’s Republic Of Stokes Croft (17-25 Jamaica Street\, BS2 8JP). \nThe walk will last 2 hours and will be followed by an opportunity to stay around in the bar afterwards to buy refreshments and ask informal questions. \nIf you have any access needs you’d like to discuss before booking\, please contact the box office at email hidden; JavaScript is required or by calling on 0117 935 1200. \nAbout Art Of Resistance\nRebel Walk is part of Trinity’s Art of Resistance\, a two-year National Lottery Heritage Funded project celebrating Bristol’s alternative and activist heritage through a series of workshops\, walks\, talks\, exhibitions\, and oral history. \nPhoto credit: © Jonathan Taphouse\, 2011
URL:https://dev.prsc.org.uk/event/rebel-walk-tesco-riot/
LOCATION:SPACE at PRSC\, 17-25 Jamaica St\, Bristol\, BS2 8JW\, United Kingdom
CATEGORIES:Activity,Discussion,Guided Tour,Politics,Protest,Talk
ATTACH;FMTTYPE=image/jpeg:https://dev.prsc.org.uk/wp-content/uploads/2021/01/TESCO_BRISTOL_JONATHAN_TAPHOUSE-26.jpg
GEO:51.462367098231;-2.5910394455531
X-APPLE-STRUCTURED-LOCATION;VALUE=URI;X-ADDRESS=SPACE at PRSC 17-25 Jamaica St Bristol BS2 8JW United Kingdom;X-APPLE-RADIUS=500;X-TITLE=17-25 Jamaica St:geo:-2.5910394455531,51.462367098231
END:VEVENT
END:VCALENDAR