BEGIN:VCALENDAR
VERSION:2.0
PRODID:-//PEOPLES REPUBLIC OF STOKES CROFT - ECPv6.15.20//NONSGML v1.0//EN
CALSCALE:GREGORIAN
METHOD:PUBLISH
X-WR-CALNAME:PEOPLES REPUBLIC OF STOKES CROFT
X-ORIGINAL-URL:https://dev.prsc.org.uk
X-WR-CALDESC:Events for PEOPLES REPUBLIC OF STOKES CROFT
REFRESH-INTERVAL;VALUE=DURATION:PT1H
X-Robots-Tag:noindex
X-PUBLISHED-TTL:PT1H
BEGIN:VTIMEZONE
TZID:Europe/London
BEGIN:DAYLIGHT
TZOFFSETFROM:+0000
TZOFFSETTO:+0100
TZNAME:BST
DTSTART:20210328T010000
END:DAYLIGHT
BEGIN:STANDARD
TZOFFSETFROM:+0100
TZOFFSETTO:+0000
TZNAME:GMT
DTSTART:20211031T010000
END:STANDARD
BEGIN:DAYLIGHT
TZOFFSETFROM:+0000
TZOFFSETTO:+0100
TZNAME:BST
DTSTART:20220327T010000
END:DAYLIGHT
BEGIN:STANDARD
TZOFFSETFROM:+0100
TZOFFSETTO:+0000
TZNAME:GMT
DTSTART:20221030T010000
END:STANDARD
BEGIN:DAYLIGHT
TZOFFSETFROM:+0000
TZOFFSETTO:+0100
TZNAME:BST
DTSTART:20230326T010000
END:DAYLIGHT
BEGIN:STANDARD
TZOFFSETFROM:+0100
TZOFFSETTO:+0000
TZNAME:GMT
DTSTART:20231029T010000
END:STANDARD
BEGIN:DAYLIGHT
TZOFFSETFROM:+0000
TZOFFSETTO:+0100
TZNAME:BST
DTSTART:20240331T010000
END:DAYLIGHT
BEGIN:STANDARD
TZOFFSETFROM:+0100
TZOFFSETTO:+0000
TZNAME:GMT
DTSTART:20241027T010000
END:STANDARD
END:VTIMEZONE
BEGIN:VEVENT
DTSTART;TZID=Europe/London:20231213T180000
DTEND;TZID=Europe/London:20231213T210000
DTSTAMP:20260421T223633
CREATED:20231206T113721Z
LAST-MODIFIED:20231206T113721Z
UID:10015096-1702490400-1702501200@dev.prsc.org.uk
SUMMARY:WMN Magazine Issue #3 Launch Party
DESCRIPTION:A free evening of creative networking\, music and dance. Come along to celebrate the New Moon with more female artists and discover more about the WMN Community. \nBest chance to get a copy of WMN Magazine issue #3. \nSee you there!
URL:https://dev.prsc.org.uk/event/wmn-magazine-issue-3-launch-party/
LOCATION:SPACE at PRSC\, 17-25 Jamaica St\, Bristol\, BS2 8JW\, United Kingdom
CATEGORIES:Dance,Magazine Launch,Movement,Music
ATTACH;FMTTYPE=image/jpeg:https://dev.prsc.org.uk/wp-content/uploads/2023/12/Poster_event_WMN_issue3d-wide.jpg
ORGANIZER;CN="WMN Magazine":MAILTO:wmnmagazine21@gmail.com
GEO:51.462367098231;-2.5910394455531
X-APPLE-STRUCTURED-LOCATION;VALUE=URI;X-ADDRESS=SPACE at PRSC 17-25 Jamaica St Bristol BS2 8JW United Kingdom;X-APPLE-RADIUS=500;X-TITLE=17-25 Jamaica St:geo:-2.5910394455531,51.462367098231
END:VEVENT
BEGIN:VEVENT
DTSTART;TZID=Europe/London:20221123T180000
DTEND;TZID=Europe/London:20221123T210000
DTSTAMP:20260421T223633
CREATED:20221122T135358Z
LAST-MODIFIED:20221122T135358Z
UID:10015005-1669226400-1669237200@dev.prsc.org.uk
SUMMARY:WMN Magazine Issue #2 Launch Party
DESCRIPTION:TicketsAn evening of talks\, exhibitions and music to celebrate the second issue of WMN Magazine!!! \nWe’ll be introducing the magazine\, its community and approach\, as well as making a brief of 2022 content. We’re pleased to have some of incredible WMN women’s artwork on the walls and the unique opportunity to listen a few of our 2nd issue contributors talking about their projects and work. If you’re interested in getting a copy\, this is a great opportunity! Magazines will be ready to be sold. \nBe prepare for a nice boogie with incredible DJ and music selector Millie McKee! \nWe’ll have a bar and will be serving beers and an alcohol-free WMN’ surprise potion! \nTickets are £5 and with this contribution you’ll be supporting an independent publication and a growing community of female talents! Get tickets from Headfirst » \nDRESS CODE: TOTAL LILAC or BLACK or WHITE OUTFIT
URL:https://dev.prsc.org.uk/event/wmn-magazine-issue-2-launch-party/
LOCATION:SPACE at PRSC\, 17-25 Jamaica St\, Bristol\, BS2 8JW\, United Kingdom
CATEGORIES:Exhibition,Magazine Launch,Music
ATTACH;FMTTYPE=image/jpeg:https://dev.prsc.org.uk/wp-content/uploads/2022/11/wmn.jpg
ORGANIZER;CN="WMN Magazine":MAILTO:wmnmagazine21@gmail.com
GEO:51.462367098231;-2.5910394455531
X-APPLE-STRUCTURED-LOCATION;VALUE=URI;X-ADDRESS=SPACE at PRSC 17-25 Jamaica St Bristol BS2 8JW United Kingdom;X-APPLE-RADIUS=500;X-TITLE=17-25 Jamaica St:geo:-2.5910394455531,51.462367098231
END:VEVENT
END:VCALENDAR