BEGIN:VCALENDAR
VERSION:2.0
PRODID:-//PEOPLES REPUBLIC OF STOKES CROFT - ECPv6.15.20//NONSGML v1.0//EN
CALSCALE:GREGORIAN
METHOD:PUBLISH
X-WR-CALNAME:PEOPLES REPUBLIC OF STOKES CROFT
X-ORIGINAL-URL:https://dev.prsc.org.uk
X-WR-CALDESC:Events for PEOPLES REPUBLIC OF STOKES CROFT
REFRESH-INTERVAL;VALUE=DURATION:PT1H
X-Robots-Tag:noindex
X-PUBLISHED-TTL:PT1H
BEGIN:VTIMEZONE
TZID:Europe/London
BEGIN:DAYLIGHT
TZOFFSETFROM:+0000
TZOFFSETTO:+0100
TZNAME:BST
DTSTART:20180325T010000
END:DAYLIGHT
BEGIN:STANDARD
TZOFFSETFROM:+0100
TZOFFSETTO:+0000
TZNAME:GMT
DTSTART:20181028T010000
END:STANDARD
BEGIN:DAYLIGHT
TZOFFSETFROM:+0000
TZOFFSETTO:+0100
TZNAME:BST
DTSTART:20190331T010000
END:DAYLIGHT
BEGIN:STANDARD
TZOFFSETFROM:+0100
TZOFFSETTO:+0000
TZNAME:GMT
DTSTART:20191027T010000
END:STANDARD
BEGIN:DAYLIGHT
TZOFFSETFROM:+0000
TZOFFSETTO:+0100
TZNAME:BST
DTSTART:20200329T010000
END:DAYLIGHT
BEGIN:STANDARD
TZOFFSETFROM:+0100
TZOFFSETTO:+0000
TZNAME:GMT
DTSTART:20201025T010000
END:STANDARD
END:VTIMEZONE
BEGIN:VEVENT
DTSTART;TZID=Europe/London:20191205T180000
DTEND;TZID=Europe/London:20191205T200000
DTSTAMP:20260422T102934
CREATED:20191204T114801Z
LAST-MODIFIED:20191204T115029Z
UID:10014487-1575568800-1575576000@dev.prsc.org.uk
SUMMARY:XR Regen Café
DESCRIPTION:A ‘no-agenda’ Regen Café open to anyone who needs a space to chill and chat with other XR Rebels. Everyone is welcome.
URL:https://dev.prsc.org.uk/event/regen-cafe/
LOCATION:SPACE at PRSC\, 17-25 Jamaica St\, Bristol\, BS2 8JW\, United Kingdom
CATEGORIES:Community Meeting,Meeting,Politics,Protest
ATTACH;FMTTYPE=image/jpeg:https://dev.prsc.org.uk/wp-content/uploads/2019/12/regencafe5dec.jpg
GEO:51.462367098231;-2.5910394455531
X-APPLE-STRUCTURED-LOCATION;VALUE=URI;X-ADDRESS=SPACE at PRSC 17-25 Jamaica St Bristol BS2 8JW United Kingdom;X-APPLE-RADIUS=500;X-TITLE=17-25 Jamaica St:geo:-2.5910394455531,51.462367098231
END:VEVENT
BEGIN:VEVENT
DTSTART;TZID=Europe/London:20191102T153000
DTEND;TZID=Europe/London:20191102T180000
DTSTAMP:20260422T102934
CREATED:20191031T161130Z
LAST-MODIFIED:20191031T161802Z
UID:10014454-1572708600-1572717600@dev.prsc.org.uk
SUMMARY:The Work That Reconnects
DESCRIPTION:A Regen workshop – the heart of XR:\nDeveloping personal connection to the earth\nbased on the work of long-time activist and Buddhist Joanna Macy: \nPractising gratitude \nHonouring our pain \nSeeing with new eyes \nGoing forth into grounded action \nFacilitated by Bill Roberts \nSaturday 2nd November \n3.30-6.00pm \n3.30 tea and biscuits / 4.00 workshop \nThe Space\, People’s Republic of Stokes Croft \n17-25 Jamaica St\, BS 8JP \nFfi: 07932 623672
URL:https://dev.prsc.org.uk/event/the-work-that-reconnects/
LOCATION:SPACE at PRSC\, 17-25 Jamaica St\, Bristol\, BS2 8JW\, United Kingdom
ATTACH;FMTTYPE=image/jpeg:https://dev.prsc.org.uk/wp-content/uploads/2019/10/WTR-2.11.19-A4-poster.jpg
GEO:51.462367098231;-2.5910394455531
X-APPLE-STRUCTURED-LOCATION;VALUE=URI;X-ADDRESS=SPACE at PRSC 17-25 Jamaica St Bristol BS2 8JW United Kingdom;X-APPLE-RADIUS=500;X-TITLE=17-25 Jamaica St:geo:-2.5910394455531,51.462367098231
END:VEVENT
END:VCALENDAR