BEGIN:VCALENDAR
VERSION:2.0
PRODID:-//PEOPLES REPUBLIC OF STOKES CROFT - ECPv6.15.20//NONSGML v1.0//EN
CALSCALE:GREGORIAN
METHOD:PUBLISH
X-ORIGINAL-URL:https://dev.prsc.org.uk
X-WR-CALDESC:Events for PEOPLES REPUBLIC OF STOKES CROFT
REFRESH-INTERVAL;VALUE=DURATION:PT1H
X-Robots-Tag:noindex
X-PUBLISHED-TTL:PT1H
BEGIN:VTIMEZONE
TZID:Europe/London
BEGIN:DAYLIGHT
TZOFFSETFROM:+0000
TZOFFSETTO:+0100
TZNAME:BST
DTSTART:20250330T010000
END:DAYLIGHT
BEGIN:STANDARD
TZOFFSETFROM:+0100
TZOFFSETTO:+0000
TZNAME:GMT
DTSTART:20251026T010000
END:STANDARD
BEGIN:DAYLIGHT
TZOFFSETFROM:+0000
TZOFFSETTO:+0100
TZNAME:BST
DTSTART:20260329T010000
END:DAYLIGHT
BEGIN:STANDARD
TZOFFSETFROM:+0100
TZOFFSETTO:+0000
TZNAME:GMT
DTSTART:20261025T010000
END:STANDARD
BEGIN:DAYLIGHT
TZOFFSETFROM:+0000
TZOFFSETTO:+0100
TZNAME:BST
DTSTART:20270328T010000
END:DAYLIGHT
BEGIN:STANDARD
TZOFFSETFROM:+0100
TZOFFSETTO:+0000
TZNAME:GMT
DTSTART:20271031T010000
END:STANDARD
END:VTIMEZONE
BEGIN:VEVENT
DTSTART;TZID=Europe/London:20260422T180000
DTEND;TZID=Europe/London:20260422T190000
DTSTAMP:20260420T231918
CREATED:20251217T155330Z
LAST-MODIFIED:20260305T131340Z
UID:10015535-1776880800-1776884400@dev.prsc.org.uk
SUMMARY:Zumba Classes with Chloe
DESCRIPTION:Tickets\nMake fitness fun with Zumba!\nDance to vibrant Latin and Global beats while burning calories and boosting energy. Easy-to-follow moves\, high energy vibes\, perfect for weight loss\, fitness\, or just a great time! \nAbout a 45 minute workout. Attendees should come dressed and ready to dance!
URL:https://dev.prsc.org.uk/event/zumba-classes-w-chloe-4wed/2026-04-22/
LOCATION:SPACE at PRSC\, 17-25 Jamaica St\, Bristol\, BS2 8JW\, United Kingdom
CATEGORIES:Exercise
ATTACH;FMTTYPE=image/png:https://dev.prsc.org.uk/wp-content/uploads/2025/12/Chloe-Zumba-Flyer-scaled.png
ORGANIZER;CN="Zumba with Chloe":MAILTO:zumbartchloe@gmail.com
GEO:51.462367098231;-2.5910394455531
X-APPLE-STRUCTURED-LOCATION;VALUE=URI;X-ADDRESS=SPACE at PRSC 17-25 Jamaica St Bristol BS2 8JW United Kingdom;X-APPLE-RADIUS=500;X-TITLE=17-25 Jamaica St:geo:-2.5910394455531,51.462367098231
END:VEVENT
BEGIN:VEVENT
DTSTART;TZID=Europe/London:20260514T180000
DTEND;TZID=Europe/London:20260514T190000
DTSTAMP:20260420T231918
CREATED:20251217T155330Z
LAST-MODIFIED:20260305T131147Z
UID:10015476-1778781600-1778785200@dev.prsc.org.uk
SUMMARY:Zumba Classes with Chloe
DESCRIPTION:Tickets\nMake fitness fun with Zumba!\nDance to vibrant Latin and Global beats while burning calories and boosting energy. Easy-to-follow moves\, high energy vibes\, perfect for weight loss\, fitness\, or just a great time! \nAbout a 45 minute workout. Attendees should come dressed and ready to dance!
URL:https://dev.prsc.org.uk/event/zumba-classes-w-chloe-2thu/2026-05-14/
LOCATION:SPACE at PRSC\, 17-25 Jamaica St\, Bristol\, BS2 8JW\, United Kingdom
CATEGORIES:Exercise
ATTACH;FMTTYPE=image/png:https://dev.prsc.org.uk/wp-content/uploads/2025/12/Chloe-Zumba-Flyer-scaled.png
ORGANIZER;CN="Zumba with Chloe":MAILTO:zumbartchloe@gmail.com
GEO:51.462367098231;-2.5910394455531
X-APPLE-STRUCTURED-LOCATION;VALUE=URI;X-ADDRESS=SPACE at PRSC 17-25 Jamaica St Bristol BS2 8JW United Kingdom;X-APPLE-RADIUS=500;X-TITLE=17-25 Jamaica St:geo:-2.5910394455531,51.462367098231
END:VEVENT
BEGIN:VEVENT
DTSTART;TZID=Europe/London:20260520T180000
DTEND;TZID=Europe/London:20260520T190000
DTSTAMP:20260420T231918
CREATED:20260210T122156Z
LAST-MODIFIED:20260305T132235Z
UID:10015597-1779300000-1779303600@dev.prsc.org.uk
SUMMARY:Zumba Classes with Chloe
DESCRIPTION:Tickets\nMake fitness fun with Zumba!\nDance to vibrant Latin and Global beats while burning calories and boosting energy. Easy-to-follow moves\, high energy vibes\, perfect for weight loss\, fitness\, or just a great time! \nAbout a 45 minute workout. Attendees should come dressed and ready to dance!
URL:https://dev.prsc.org.uk/event/zumba-classes-w-chloe-3wed/2026-05-20/
LOCATION:SPACE at PRSC\, 17-25 Jamaica St\, Bristol\, BS2 8JW\, United Kingdom
CATEGORIES:Exercise
ATTACH;FMTTYPE=image/png:https://dev.prsc.org.uk/wp-content/uploads/2025/12/Chloe-Zumba-Flyer-scaled.png
ORGANIZER;CN="Zumba with Chloe":MAILTO:zumbartchloe@gmail.com
GEO:51.462367098231;-2.5910394455531
X-APPLE-STRUCTURED-LOCATION;VALUE=URI;X-ADDRESS=SPACE at PRSC 17-25 Jamaica St Bristol BS2 8JW United Kingdom;X-APPLE-RADIUS=500;X-TITLE=17-25 Jamaica St:geo:-2.5910394455531,51.462367098231
END:VEVENT
END:VCALENDAR