BEGIN:VCALENDAR
VERSION:2.0
PRODID:-//PEOPLES REPUBLIC OF STOKES CROFT - ECPv6.15.20//NONSGML v1.0//EN
CALSCALE:GREGORIAN
METHOD:PUBLISH
X-ORIGINAL-URL:https://dev.prsc.org.uk
X-WR-CALDESC:Events for PEOPLES REPUBLIC OF STOKES CROFT
REFRESH-INTERVAL;VALUE=DURATION:PT1H
X-Robots-Tag:noindex
X-PUBLISHED-TTL:PT1H
BEGIN:VTIMEZONE
TZID:Europe/London
BEGIN:DAYLIGHT
TZOFFSETFROM:+0000
TZOFFSETTO:+0100
TZNAME:BST
DTSTART:20160327T010000
END:DAYLIGHT
BEGIN:STANDARD
TZOFFSETFROM:+0100
TZOFFSETTO:+0000
TZNAME:GMT
DTSTART:20161030T010000
END:STANDARD
BEGIN:DAYLIGHT
TZOFFSETFROM:+0000
TZOFFSETTO:+0100
TZNAME:BST
DTSTART:20170326T010000
END:DAYLIGHT
BEGIN:STANDARD
TZOFFSETFROM:+0100
TZOFFSETTO:+0000
TZNAME:GMT
DTSTART:20171029T010000
END:STANDARD
BEGIN:DAYLIGHT
TZOFFSETFROM:+0000
TZOFFSETTO:+0100
TZNAME:BST
DTSTART:20180325T010000
END:DAYLIGHT
BEGIN:STANDARD
TZOFFSETFROM:+0100
TZOFFSETTO:+0000
TZNAME:GMT
DTSTART:20181028T010000
END:STANDARD
END:VTIMEZONE
BEGIN:VEVENT
DTSTART;TZID=Europe/London:20171019T180000
DTEND;TZID=Europe/London:20171019T210000
DTSTAMP:20260421T175646
CREATED:20170915T120410Z
LAST-MODIFIED:20170915T120410Z
UID:10013910-1508436000-1508446800@dev.prsc.org.uk
SUMMARY:JtoJ Exhibition “Voice from the Past”
DESCRIPTION:“The struggle of man against power is the struggle of memory against forgetting”. (Milan Kundera) \nThe Bearpit\, Central Bristol. 6pm-9pm. Working with Bristol Artists and the students of the Creative Youth Network\, Peoples Republic of Stokes Croft offer an outdoor exhibition of Bristol’s political heroes of the past in the struggle for justice. \nThe exhibition will be built in the Bearpit from 10-18th October\, when passers-by will see artists and students at work in this extraordinary public space where the city finds its political voice. \nHosted by Journey to Justice Bristol and PRSC.
URL:https://dev.prsc.org.uk/event/jtoj-exhibition-voice-from-the-past/
LOCATION:Bearpit Outdoor Gallery\, St. James Barton Roundabout\, Bristol\, BS1 3LY\, United Kingdom
CATEGORIES:Art Exhibition
ATTACH;FMTTYPE=image/jpeg:https://dev.prsc.org.uk/wp-content/uploads/2017/09/Tunnel-test-03.jpg
GEO:51.4591847;-2.590482
X-APPLE-STRUCTURED-LOCATION;VALUE=URI;X-ADDRESS=Bearpit Outdoor Gallery St. James Barton Roundabout Bristol BS1 3LY United Kingdom;X-APPLE-RADIUS=500;X-TITLE=St. James Barton Roundabout:geo:-2.590482,51.4591847
END:VEVENT
END:VCALENDAR