BEGIN:VCALENDAR
VERSION:2.0
PRODID:-//PEOPLES REPUBLIC OF STOKES CROFT - ECPv6.15.20//NONSGML v1.0//EN
CALSCALE:GREGORIAN
METHOD:PUBLISH
X-ORIGINAL-URL:https://dev.prsc.org.uk
X-WR-CALDESC:Events for PEOPLES REPUBLIC OF STOKES CROFT
REFRESH-INTERVAL;VALUE=DURATION:PT1H
X-Robots-Tag:noindex
X-PUBLISHED-TTL:PT1H
BEGIN:VTIMEZONE
TZID:Europe/London
BEGIN:DAYLIGHT
TZOFFSETFROM:+0000
TZOFFSETTO:+0100
TZNAME:BST
DTSTART:20200329T010000
END:DAYLIGHT
BEGIN:STANDARD
TZOFFSETFROM:+0100
TZOFFSETTO:+0000
TZNAME:GMT
DTSTART:20201025T010000
END:STANDARD
BEGIN:DAYLIGHT
TZOFFSETFROM:+0000
TZOFFSETTO:+0100
TZNAME:BST
DTSTART:20210328T010000
END:DAYLIGHT
BEGIN:STANDARD
TZOFFSETFROM:+0100
TZOFFSETTO:+0000
TZNAME:GMT
DTSTART:20211031T010000
END:STANDARD
BEGIN:DAYLIGHT
TZOFFSETFROM:+0000
TZOFFSETTO:+0100
TZNAME:BST
DTSTART:20220327T010000
END:DAYLIGHT
BEGIN:STANDARD
TZOFFSETFROM:+0100
TZOFFSETTO:+0000
TZNAME:GMT
DTSTART:20221030T010000
END:STANDARD
END:VTIMEZONE
BEGIN:VEVENT
DTSTART;TZID=Europe/London:20210530T160000
DTEND;TZID=Europe/London:20210530T173000
DTSTAMP:20260422T005546
CREATED:20200304T125402Z
LAST-MODIFIED:20220411T161922Z
UID:10014240-1622390400-1622395800@dev.prsc.org.uk
SUMMARY:Self-defence with PunchUp
DESCRIPTION:*** All School of Activism 2.0 events will be held online ***\nBook Tickets\nCome and join Punch Up FTP for a beginner’s introduction to self defence. Well\, we think it’s about time we got back to training to fight for a better world\, to look after ourselves and each other and to have fun together. This workshop is suitable for all ages. \nDue to the relaxing of Covid guidelines\, this event will now take place in person in Eastville Park. \nPunch Up FTP is a volunteer-run training group in Bristol for people of left-wing politics. We work as a collective\, sharing out the tasks of running the group and leading sessions. Group members share their skills in martial arts and combat sports\, such as Muay Thai\, boxing\, Taiji and Brazilian Jiu Jitsu. All genders and all levels of experience are welcome\, we prioritise support of beginners. \nAims\nTo provide training space and skill-sharing for people involved in or supportive of left politics.\nTo learn together to fight effectively to protect ourselves and each other.\nTo build and reinforce a sense of solidarity\, affinity and community through training regularly together and ensuring we maintain a safer space for training. \nTraining Agreement\nWe want to train with respect\, mutual support and good communication.\nOur training culture aims to be feminist and pro trans.\nOur focus is on helping each other out and learning together.\nWe are not interested in proving ourselves or point scoring at others’ expense.\nWe will not tolerate macho\, domineering or overly competitive behaviour or attitudes.\nWe hope to run the group collectively and recognise that everyone has something to offer.\nWe aim to ensure all participants\, at whatever level of experience\, have fun\, improve skills and learn how to fight effectively. \nRecommended donation £4 (no one turned away through lack of funds). \nTickets available now from Headfirst. The suggested donation of £4 will help us keep the School of Activism as accessible & low-cost as possible\, £8 will subsidise a ticket for someone else – but no-one turned away through lack of funds!\n\nThe School of Activism 2.0 is a two week programme of workshops\, talks and activities brought to you by Peoples Republic of Stokes Croft over the Easter holidays. The workshops are intended to be empowering experiences equipping people with the tools to challenge the status quo\, contest power structures and ultimately to change the world.\nWe learn by doing.\nWe make our own future.\n\n\n\nSchool of Chativism\n\nIf you're feeling hyped about all this educating\, and you wanna connect with other SoA students to talk about what you've learnt\, and/or discuss the future of ethical social media\, then this is for you... \n\n"The School of Chativism is an experimental social media space that will run for the duration of the School of Activism 2.0. This is the place to discuss and share events at SOA2. But it's also a space for questioning what social media currently is\, and what it could be\, for activists and activism. We can remake it as we go\, transform it throughout SOA2.“ \n\nJoin the conversation »
URL:https://dev.prsc.org.uk/event/self-defence/
LOCATION:Eastville Park\, Bristol\, BS5 6XA
CATEGORIES:Activity,Discussion,Education,Politics,School of Activism,School of Activism 2.0,Workshop
ATTACH;FMTTYPE=image/jpeg:https://dev.prsc.org.uk/wp-content/uploads/2020/03/punchup.jpg
END:VEVENT
END:VCALENDAR