BEGIN:VCALENDAR
VERSION:2.0
PRODID:-//PEOPLES REPUBLIC OF STOKES CROFT - ECPv6.15.20//NONSGML v1.0//EN
CALSCALE:GREGORIAN
METHOD:PUBLISH
X-ORIGINAL-URL:https://dev.prsc.org.uk
X-WR-CALDESC:Events for PEOPLES REPUBLIC OF STOKES CROFT
REFRESH-INTERVAL;VALUE=DURATION:PT1H
X-Robots-Tag:noindex
X-PUBLISHED-TTL:PT1H
BEGIN:VTIMEZONE
TZID:Europe/London
BEGIN:DAYLIGHT
TZOFFSETFROM:+0000
TZOFFSETTO:+0100
TZNAME:BST
DTSTART:20210328T010000
END:DAYLIGHT
BEGIN:STANDARD
TZOFFSETFROM:+0100
TZOFFSETTO:+0000
TZNAME:GMT
DTSTART:20211031T010000
END:STANDARD
BEGIN:DAYLIGHT
TZOFFSETFROM:+0000
TZOFFSETTO:+0100
TZNAME:BST
DTSTART:20220327T010000
END:DAYLIGHT
BEGIN:STANDARD
TZOFFSETFROM:+0100
TZOFFSETTO:+0000
TZNAME:GMT
DTSTART:20221030T010000
END:STANDARD
BEGIN:DAYLIGHT
TZOFFSETFROM:+0000
TZOFFSETTO:+0100
TZNAME:BST
DTSTART:20230326T010000
END:DAYLIGHT
BEGIN:STANDARD
TZOFFSETFROM:+0100
TZOFFSETTO:+0000
TZNAME:GMT
DTSTART:20231029T010000
END:STANDARD
END:VTIMEZONE
BEGIN:VEVENT
DTSTART;TZID=Europe/London:20221209T150000
DTEND;TZID=Europe/London:20221209T180000
DTSTAMP:20260422T172603
CREATED:20220620T004105Z
LAST-MODIFIED:20221206T173936Z
UID:10014426-1670598000-1670608800@dev.prsc.org.uk
SUMMARY:Mulled Wine & Mince Pies
DESCRIPTION:Feeling festive? We most certainly are\, so we’re inviting you to join us for mulled wine & mince pies at the Pop-up Republic of Stokes Croft this Friday afternoon! \nFind us in unit UG5 on the middle floor of The Galleries\, near the top of the escalator at the Waterstones/bridal shop end – map & more info on the Pop-up Republic here »
URL:https://dev.prsc.org.uk/event/mulled-wine-mince-pies/
LOCATION:Pop-up Republic of Stokes Croft\, UG5\, Middle floor\, The Galleries\, Bristol\, BS1 3XD\, United Kingdom
CATEGORIES:Activity,Pop-up Republic of Stokes Croft
ATTACH;FMTTYPE=image/jpeg:https://dev.prsc.org.uk/wp-content/uploads/2022/06/POP-UP-mulled-wine-Square.jpg
END:VEVENT
BEGIN:VEVENT
DTSTART;TZID=Europe/London:20220825T130000
DTEND;TZID=Europe/London:20220825T180000
DTSTAMP:20260422T172603
CREATED:20220816T143736Z
LAST-MODIFIED:20220817T144023Z
UID:10014817-1661432400-1661450400@dev.prsc.org.uk
SUMMARY:Pop-up Republic of Stokes Croft Opening Party
DESCRIPTION:This summer we’re bringing our unusual brand of china right into the heart of Bristol! We’ll be popping up in The Galleries shopping centre with plenty of your favourite lines from Stokes Croft China\, a whole heap of gorgeous\, new\, unique pieces\, plus original art and other lovely things from the PRSC crew. \nJoin us from 1pm on the middle floor of The Galleries on Thursday 25 August as we celebrate our launch with a glass of summer punch – and a celebrity guest! Bristolian actor Joe Sims\, famous for his role in Broadchurch\, will be officially opening our new shop. \nFind us in unit UG5 on the middle floor of The Galleries\, near the top of the escalator at the Waterstones/bridal shop end – see map below.
URL:https://dev.prsc.org.uk/event/pop-up-republic-opening-party/
LOCATION:Pop-up Republic of Stokes Croft\, UG5\, Middle floor\, The Galleries\, Bristol\, BS1 3XD\, United Kingdom
CATEGORIES:Opening Night,Pop-up Republic of Stokes Croft
ATTACH;FMTTYPE=image/jpeg:https://dev.prsc.org.uk/wp-content/uploads/2022/08/Pop-Up-Republic-Invite.jpg
END:VEVENT
END:VCALENDAR